Workbook

Sheet Arbeitsblatt
A1: Neue Zufallszahlen = F9 drücken
A2: Klassenarbeitstrainer | T2: Lösung:
A4: Aufgabe 1: Berechne den Term und gib an, um welche Rechnung es sich handelt. | T4: =A4 -> Aufgabe 1: Berechne den Term und gib an, um welche Rechnung es sich handelt.
A6: a) | B6: =VLOOKUP(1,Tabelle1!$B$3:$J$24,3,FALSE) -> (7 - 4) + (7 - 5) | J6: b) | K6: =VLOOKUP(2,Tabelle1!$B$3:$J$24,3,FALSE) -> (8 - 5) + (7 + 5) | T6: =A6 -> a) | U6: =VLOOKUP(1,Tabelle1!$B$3:$J$24,4,FALSE)&" , "&B6&" "&VLOOKUP(1,Tabelle1!$B$3:$J$24,9,FALSE) -> Summe , (7 - 4) + (7 - 5) = 3 + 2 = 5 | AC6: =CHAR(2+96)&")" -> b) | AD6: =VLOOKUP(2,Tabelle1!$B$3:$J$24,4,FALSE)&" , "&K6&" "&VLOOKUP(2,Tabelle1!$B$3:$J$24,9,FALSE) -> Summe , (8 - 5) + (7 + 5) = 3 + 12 = 15
A8: c) | B8: =VLOOKUP(3,Tabelle1!$B$3:$J$24,3,FALSE) -> 4 · (5 + 2) | J8: d) | K8: =VLOOKUP(4,Tabelle1!$B$3:$J$24,3,FALSE) -> (14 + 9) - (10 + 5) | T8: =A8 -> c) | U8: =VLOOKUP(3,Tabelle1!$B$3:$J$24,4,FALSE)&" , "&B8&" "&VLOOKUP(3,Tabelle1!$B$3:$J$24,9,FALSE) -> Produkt , 4 · (5 + 2) = 4 · 7 = 28 | AC8: =J8 -> d) | AD8: =VLOOKUP(4,Tabelle1!$B$3:$J$24,4,FALSE)&" , "&K8&" "&VLOOKUP(4,Tabelle1!$B$3:$J$24,9,FALSE) -> Differenz , (14 + 9) - (10 + 5) = 23 - 15 = 8
A10: Aufgabe 2: Gib den Term zum Rechenbaum an und berechne | T10: =A10 -> Aufgabe 2: Gib den Term zum Rechenbaum an und berechne
A12: a) | B12: =VLOOKUP(1,Tabelle4!$A$2:$J$9,7,FALSE) -> 18 | D12: =VLOOKUP(1,Tabelle4!$A$2:$J$9,8,FALSE) -> 9 | F12: =VLOOKUP(1,Tabelle4!$A$2:$J$9,9,FALSE) -> 2 | G12: b) | H12: =VLOOKUP(2,Tabelle4!$A$2:$J$9,7,FALSE) -> 51 | J12: =VLOOKUP(2,Tabelle4!$A$2:$J$9,8,FALSE) -> 13 | L12: =VLOOKUP(2,Tabelle4!$A$2:$J$9,9,FALSE) -> 8 | M12: c) | N12: =VLOOKUP(3,Tabelle4!$A$2:$J$9,7,FALSE) -> 30 | P12: =VLOOKUP(3,Tabelle4!$A$2:$J$9,8,FALSE) -> 5 | R12: =VLOOKUP(3,Tabelle4!$A$2:$J$9,9,FALSE) -> 6 | T12: a) | U12: =VLOOKUP(1,Tabelle4!$A$2:$K$9,3,FALSE) -> ( 18 - 9 ) + 2 | Z12: b) | AA12: =VLOOKUP(2,Tabelle4!$A$2:$K$9,3,FALSE) -> ( 51 + 13 ) : 8 | AF12: c) | AG12: =VLOOKUP(3,Tabelle4!$A$2:$K$9,3,FALSE) -> ( 30 : 5 ) · 6
C14: =VLOOKUP(1,Tabelle4!$A$2:$J$9,5,FALSE) -> - | I14: =VLOOKUP(2,Tabelle4!$A$2:$J$9,5,FALSE) -> + | O14: =VLOOKUP(3,Tabelle4!$A$2:$J$9,5,FALSE) -> : | U14: =VLOOKUP(1,Tabelle4!$A$2:$L$9,12,FALSE) -> = 9 + 2 | AA14: =VLOOKUP(2,Tabelle4!$A$2:$L$9,12,FALSE) -> = 64 : 8 | AG14: =VLOOKUP(3,Tabelle4!$A$2:$L$9,12,FALSE) -> = 6 · 6
E16: =VLOOKUP(1,Tabelle4!$A$2:$J$9,6,FALSE) -> + | K16: =VLOOKUP(2,Tabelle4!$A$2:$J$9,6,FALSE) -> : | Q16: =VLOOKUP(3,Tabelle4!$A$2:$J$9,6,FALSE) -> · | U16: =" = "&VLOOKUP(1,Tabelle4!$A$2:$L$9,4,FALSE) -> = 11 | AA16: =" = "&VLOOKUP(2,Tabelle4!$A$2:$L$9,4,FALSE) -> = 8 | AG16: =" = "&VLOOKUP(3,Tabelle4!$A$2:$L$9,4,FALSE) -> = 36
A20: Aufgabe 3: Schreibe als Term und berechne | T20: =A20 -> Aufgabe 3: Schreibe als Term und berechne
A22: a) | B22: =VLOOKUP(1,Daten4!$B$2:$N$38,12,FALSE) -> Multipliziere die Differenz von 8 und 7 | J22: b) | K22: =VLOOKUP(2,Daten4!$B$2:$N$38,12,FALSE) -> Subtrahiere den Quotienten aus 8 und 4 | T22: a) | U22: =VLOOKUP(1,Daten4!$B$2:$N$38,9,FALSE) -> (8 - 7) ∙ (72 : 9) | AC22: b) | AD22: =VLOOKUP(2,Daten4!$B$2:$N$38,9,FALSE) -> (10 + 3) - (8 : 4)
B23: =VLOOKUP(1,Daten4!$B$2:$N$38,13,FALSE) -> mit dem Quotienten aus 72 und 9 | K23: =VLOOKUP(2,Daten4!$B$2:$N$38,13,FALSE) -> von der Summe von 10 und 3 | U23: =VLOOKUP(1,Daten4!$B$2:$N$38,10,FALSE)&VLOOKUP(1,Daten4!$B$2:$N$38,11,FALSE) -> = 1 ∙ 8 = 8 | AD23: =VLOOKUP(2,Daten4!$B$2:$N$38,10,FALSE)&VLOOKUP(2,Daten4!$B$2:$N$38,11,FALSE) -> = 13 - 2 = 11
A25: Aufgabe 4: Rechne geschickt und nutze das Kommutativgesetz | T25: =A25 -> Aufgabe 4: Rechne geschickt und nutze das Kommutativgesetz
A27: a) | B27: =VLOOKUP(P27,Daten1!$B$2:$I$38,6,) -> 76 + 28 + 24 = | J27: b) | K27: =VLOOKUP(R27,Daten1!$B$2:$I$38,6,) -> 55 + 21 + 65 = | P27: 1 | R27: 2 | T27: =A27 -> a) | U27: =VLOOKUP(P27,Daten1!$B$2:$I$38,7,) -> 76 + 24 + 28 = 100 + 28 = 128 | AD27: =J27&" "&VLOOKUP($R27,Daten1!$B$2:$I$38,7,) -> b) 55 + 65 + 21 = 120 + 21 = 141
A29: c) | B29: =VLOOKUP(P29,Daten1!$B$2:$I$38,6,) -> 87 + 48 + 23 = | J29: d) | K29: =VLOOKUP(R29,Daten1!$B$2:$I$38,6,) -> 64 + 65 + 26 = | P29: =R27+1 -> 3 | R29: =P29+1 -> 4 | T29: =A29 -> c) | U29: =VLOOKUP(P29,Daten1!$B$2:$I$38,7,) -> 87 + 23 + 48 = 110 + 48 = 158 | AD29: =J29&" "&VLOOKUP($R29,Daten1!$B$2:$I$38,7,) -> d) 64 + 26 + 65 = 90 + 65 = 155
A31: Aufgabe 5: Rechne geschickt und nutze das Kommutativgesetz | T31: =A31 -> Aufgabe 5: Rechne geschickt und nutze das Kommutativgesetz
A32: 1 | J32: =A32+1 -> 2 | T32: =A32 -> 1 | AC32: =J32 -> 2 | AH32: Für neue Zufallswerte
A33: =CHAR(A32+96)&")" -> a) | B33: =VLOOKUP(A32,Tabelle2!$A$2:$H$38,6,FALSE) -> 5 · 8 · 200 = | J33: b) | K33: =VLOOKUP(J32,Tabelle2!$A$2:$H$38,6,FALSE) -> 50 · 24 · 2 = | P33: 1 | R33: 2 | T33: =A33 -> a) | U33: =VLOOKUP(T32,Tabelle2!$A$2:$H$38,7,FALSE) -> 5 · 200 · 8 = 1000 · 8 = 8000 | AC33: =J33 -> b) | AD33: =VLOOKUP(AC32,Tabelle2!$A$2:$H$38,7,FALSE) -> 50 · 2 · 24 = 100 · 24 = 2400
A34: =J32+1 -> 3 | J34: =A34+1 -> 4 | T34: =A34 -> 3 | AC34: =J34 -> 4
A35: =CHAR(A34+96)&")" -> c) | B35: =VLOOKUP(A34,Tabelle2!$A$2:$H$38,6,FALSE) -> 250 · 6 · 4 = | J35: b) | K35: =VLOOKUP(J34,Tabelle2!$A$2:$H$38,6,FALSE) -> 20 · 47 · 5 = | P35: =R33+1 -> 3 | R35: =P35+1 -> 4 | T35: =A35 -> c) | U35: =VLOOKUP(T34,Tabelle2!$A$2:$H$38,7,FALSE) -> 250 · 4 · 6 = 1000 · 6 = 6000 | AC35: =J35 -> b) | AD35: =VLOOKUP(AC34,Tabelle2!$A$2:$H$38,7,FALSE) -> 20 · 5 · 47 = 100 · 47 = 4700
A37: Aufgabe 6: Rechne geschickt und nutze das Assoziativgesetz | T37: =A37 -> Aufgabe 6: Rechne geschickt und nutze das Assoziativgesetz
A39: a) | B39: =VLOOKUP(P39,Daten2!$B$2:$I$38,6,) -> (70 + 75) + 65 = | J39: b) | K39: =VLOOKUP($R39,Daten2!$B$2:$I$38,6,) -> (97 + 57) + 43 = | P39: 1 | R39: 2 | T39: =A39 -> a) | U39: =VLOOKUP(P39,Daten2!$B$2:$I$38,7,) -> 70 + (75 + 65) = 70 + 140 = 210 | AD39: =J39&" "&VLOOKUP(R39,Daten2!$B$2:$I$38,7,) -> b) 97 + (57 + 43) = 97 + 100 = 197
A41: c) | B41: =VLOOKUP(P41,Daten2!$B$2:$I$38,6,) -> (21 + 48) + 72 = | J41: d) | K41: =VLOOKUP($R41,Daten2!$B$2:$I$38,6,) -> (60 + 88) + 72 = | P41: =R39+1 -> 3 | R41: =P41+1 -> 4 | T41: =A41 -> c) | U41: =VLOOKUP(P41,Daten2!$B$2:$I$38,7,) -> 21 + (48 + 72) = 21 + 120 = 141 | AD41: =J41&" "&VLOOKUP(R41,Daten2!$B$2:$I$38,7,) -> d) 60 + (88 + 72) = 60 + 160 = 220
A43: Aufgabe 7: Rechne geschickt und nutze das Assoziativgesetz | T43: =A43 -> Aufgabe 7: Rechne geschickt und nutze das Assoziativgesetz
A45: a) | B45: =VLOOKUP(1,Tabelle3!$A$2:$H$38,6,FALSE) -> ( 28 · 5 ) · 20 = | J45: b) | K45: =VLOOKUP(2,Tabelle3!$A$2:$H$38,6,FALSE) -> ( 29 · 500 ) · 2 = | P45: 1 | R45: 2 | T45: =A45 -> a) | U45: =VLOOKUP(1,Tabelle3!$A$2:$H$38,7,FALSE) -> 28 · ( 5 · 20 ) = 28 · 100 = 2800 | AC45: =J45 -> b) | AD45: =VLOOKUP(2,Tabelle3!$A$2:$H$38,7,FALSE) -> 29 · ( 500 · 2 ) = 29 · 1000 = 29000
A46: =J44+1 -> 1 | J46: =A46+1 -> 2 | T46: =A46 -> 1 | AC46: =J46 -> 2
A47: c) | B47: =VLOOKUP(3,Tabelle3!$A$2:$H$38,6,FALSE) -> ( 9 · 2 ) · 5 = | J47: d) | K47: =VLOOKUP(4,Tabelle3!$A$2:$H$38,6,FALSE) -> ( 47 · 4 ) · 250 = | P47: =R45+1 -> 3 | R47: =P47+1 -> 4 | T47: =A47 -> c) | U47: =VLOOKUP(3,Tabelle3!$A$2:$H$38,7,FALSE) -> 9 · ( 2 · 5 ) = 9 · 10 = 90 | AC47: =J47 -> d) | AD47: =VLOOKUP(4,Tabelle3!$A$2:$H$38,7,FALSE) -> 47 · ( 4 · 250 ) = 47 · 1000 = 47000
A49: Aufgabe 8: Rechne geschickt und nutze das Distributivgesetz | T49: =A49 -> Aufgabe 8: Rechne geschickt und nutze das Distributivgesetz
A51: a) | B51: =VLOOKUP(P51,Daten3!$A$2:$J$38,8,FALSE)&" = " -> 2 · 29 + 48 · 29 = | J51: b) | K51: =VLOOKUP(R51,Daten3!$A$2:$J$38,8,FALSE)&" = " -> 5 · 13 + 65 · 13 = | P51: 1 | R51: 2 | T51: =A51 -> a) | U51: =VLOOKUP(P51,Daten3!$A$2:$J$38,9,FALSE) -> = (2 + 48) · 29 = 50 · 29 = 1450 | AD51: =J51&" "&VLOOKUP(R51,Daten3!$A$2:$J$38,9,FALSE) -> b) = (5 + 65) · 13 = 70 · 13 = 910
A53: c) | B53: =VLOOKUP(P53,Daten3!$A$2:$J$38,8,FALSE)&" = " -> 8 · 16 + 32 · 16 = | J53: d) | K53: =Daten3!H92&"=" -> 5 · 19 + 33 · 19 + 22 · 19= | P53: 3 | R53: 4 | T53: =A53 -> c) | U53: =VLOOKUP(P53,Daten3!$A$2:$J$38,9,FALSE) -> = (8 + 32) · 16 = 40 · 16 = 640 | AD53: =J53&" ="&Daten3!J92 -> d) = (5 + 33 + 22) · 19 = 60 · 19 = 1140
A55: Aufgabe 9: Wende das Distributivgesetz an und multipliziere aus | T55: =A55 -> Aufgabe 9: Wende das Distributivgesetz an und multipliziere aus
A57: a) | B57: =VLOOKUP(P57,Daten3!$A$43:$I$79,9,FALSE) -> (33 + 9) · 27 = | J57: b) | K57: =VLOOKUP(R57,Daten3!$A$43:$I$79,9,FALSE) -> (13 + 3) · 18 = | P57: 1 | R57: 2 | T57: =A57 -> a) | U57: =VLOOKUP(P57,Daten3!$A$43:$I$79,8,FALSE) -> 33 · 27 + 9 · 27 | AD57: =J57&" "&VLOOKUP(R57,Daten3!$A$43:$I$79,8,FALSE) -> b) 13 · 18 + 3 · 18
A59: c) | B59: =VLOOKUP(P59,Daten3!$A$43:$I$79,9,FALSE) -> (16 - 1) · 11 = | J59: d) | K59: =Daten3!J93&" =" -> (4 + 6 + 12) · 25 = | P59: 3 | R59: 4 | T59: =A59 -> c) | U59: =VLOOKUP(P59,Daten3!$A$43:$I$79,8,FALSE) -> 16 · 11 - 1 · 11 | AD59: =J59&" "&Daten3!H93 -> d) 4 · 25 + 6 · 25 + 12 · 25
A61: www.schlauistwow.de

Sheet Tabelle4
A2: =_xlfn.RANK.EQ(B2,$B$2:$B$9) -> 6 | B2: =RAND() -> 0.42614625 | C2: ="( "&G2&" + "&H2&" ) · "&I2 -> ( 10 + 2 ) · 8 | D2: =(G2+H2)*I2 -> 96 | E2: + | F2: · | G2: =RANDBETWEEN(2,10) -> 10 | H2: =RANDBETWEEN(2,10) -> 2 | I2: =RANDBETWEEN(2,10) -> 8 | K2: =G2+H2 -> 12 | L2: ="= "&K2&" "&F2&" "&I2 -> = 12 · 8 | O2: 1 | P2: +
A3: =_xlfn.RANK.EQ(B3,$B$2:$B$9) -> 5 | B3: =RAND() -> 0.56842773 | C3: ="( "&G3&" - "&H3&" ) · "&I3 -> ( 12 - 5 ) · 7 | D3: =(G3-H3)*I3 -> 49 | E3: - | F3: · | G3: =RANDBETWEEN(2,10)+H3 -> 12 | H3: =RANDBETWEEN(2,10) -> 5 | I3: =RANDBETWEEN(2,10) -> 7 | J3: =RANDBETWEEN(2,9) -> 9 | K3: =G3-H3 -> 7 | L3: ="= "&K3&" "&F3&" "&I3 -> = 7 · 7 | O3: 2 | P3: -
A4: =_xlfn.RANK.EQ(B4,$B$2:$B$9) -> 2 | B4: =RAND() -> 0.65654012 | C4: ="( "&G4&" + "&H4&" ) : "&I4 -> ( 51 + 13 ) : 8 | D4: =(G4+H4)/I4 -> 8 | E4: + | F4: : | G4: =I4*J4-H4 -> 51 | H4: =RANDBETWEEN(2,I4*J4) -> 13 | I4: =RANDBETWEEN(2,10) -> 8 | J4: =RANDBETWEEN(2,9) -> 8 | K4: =G4+H4 -> 64 | L4: ="= "&K4&" "&F4&" "&I4 -> = 64 : 8 | O4: 3 | P4: ·
A5: =_xlfn.RANK.EQ(B5,$B$2:$B$9) -> 8 | B5: =RAND() -> 0.1252511 | C5: ="( "&G5&" - "&H5&" ) : "&I5 -> ( 57 - 8 ) : 7 | D5: =(G5-H5)/I5 -> 7 | E5: - | F5: : | G5: =I5*J5+H5 -> 57 | H5: =RANDBETWEEN(2,10) -> 8 | I5: =RANDBETWEEN(2,10) -> 7 | J5: =RANDBETWEEN(2,9) -> 7 | K5: =G5-H5 -> 49 | L5: ="= "&K5&" "&F5&" "&I5 -> = 49 : 7 | O5: 4 | P5: :
A6: =_xlfn.RANK.EQ(B6,$B$2:$B$9) -> 7 | B6: =RAND() -> 0.23719309 | C6: ="( "&G6&" + "&H6&" ) - "&I6 -> ( 17 + 9 ) - 10 | D6: =(G6+H6)-I6 -> 16 | E6: + | F6: - | G6: =RANDBETWEEN(2,10)+I6 -> 17 | H6: =RANDBETWEEN(2,10) -> 9 | I6: =RANDBETWEEN(2,10) -> 10 | K6: =G6+H6 -> 26 | L6: ="= "&K6&" "&F6&" "&I6 -> = 26 - 10
A7: =_xlfn.RANK.EQ(B7,$B$2:$B$9) -> 1 | B7: =RAND() -> 0.73286056 | C7: ="( "&G7&" - "&H7&" ) + "&I7 -> ( 18 - 9 ) + 2 | D7: =(G7-H7)+I7 -> 11 | E7: - | F7: + | G7: =RANDBETWEEN(2,10)+H7 -> 18 | H7: =RANDBETWEEN(2,10) -> 9 | I7: =RANDBETWEEN(2,10) -> 2 | J7: =RANDBETWEEN(2,9) -> 2 | K7: =G7-H7 -> 9 | L7: ="= "&K7&" "&F7&" "&I7 -> = 9 + 2
A8: =_xlfn.RANK.EQ(B8,$B$2:$B$9) -> 3 | B8: =RAND() -> 0.60171264 | C8: ="( "&G8&" : "&H8&" ) · "&I8 -> ( 30 : 5 ) · 6 | D8: =(G8/H8)*I8 -> 36 | E8: : | F8: · | G8: =H8*J8 -> 30 | H8: =RANDBETWEEN(2,10) -> 5 | I8: =RANDBETWEEN(2,10) -> 6 | J8: =RANDBETWEEN(2,9) -> 6 | K8: =G8/H8 -> 6 | L8: ="= "&K8&" "&F8&" "&I8 -> = 6 · 6
A9: =_xlfn.RANK.EQ(B9,$B$2:$B$9) -> 4 | B9: =RAND() -> 0.59348172 | C9: ="( "&G9&" : "&H9&" ) + "&I9 -> ( 42 : 6 ) + 4 | D9: =(G9/H9)+I9 -> 11 | E9: : | F9: + | G9: =H9*J9 -> 42 | H9: =RANDBETWEEN(2,10) -> 6 | I9: =RANDBETWEEN(2,10) -> 4 | J9: =RANDBETWEEN(2,9) -> 7 | K9: =G9/H9 -> 7 | L9: ="= "&K9&" "&F9&" "&I9 -> = 7 + 4

Sheet Tabelle2
A1: 50 | C1: y
A2: =_xlfn.RANK.EQ(B2,$B$2:$B$38) -> 14 | B2: =RAND() -> 0.64927619 | C2: =VLOOKUP(I2,$K$2:$M$15,2) -> 20 | D2: =IF(MOD(J2,10)=0,J2+1,J2) -> 18 | E2: =VLOOKUP(I2,$K$2:$M$15,3) -> 5 | F2: =C2&" · "&D2&" · "&E2&" =" -> 20 · 18 · 5 = | G2: =C2&" · "&E2&" · "&D2&" = "&C2*E2&" · "&D2&" = "&C2*D2*E2 -> 20 · 5 · 18 = 100 · 18 = 1800 | I2: =RANDBETWEEN(1,14) -> 1 | J2: =RANDBETWEEN(2,$A$1) -> 18 | K2: 1 | L2: 20 | M2: 5
A3: =_xlfn.RANK.EQ(B3,$B$2:$B$38) -> 9 | B3: =RAND() -> 0.72998246 | C3: =VLOOKUP(I3,$K$2:$M$15,2) -> 2 | D3: =IF(MOD(J3,10)=0,J3+1,J3) -> 33 | E3: =VLOOKUP(I3,$K$2:$M$15,3) -> 500 | F3: =C3&" · "&D3&" · "&E3&" =" -> 2 · 33 · 500 = | G3: =C3&" · "&E3&" · "&D3&" = "&C3*E3&" · "&D3&" = "&C3*D3*E3 -> 2 · 500 · 33 = 1000 · 33 = 33000 | I3: =RANDBETWEEN(1,14) -> 14 | J3: =RANDBETWEEN(2,$A$1) -> 33 | K3: =K2+1 -> 2 | L3: 25 | M3: 4
A4: =_xlfn.RANK.EQ(B4,$B$2:$B$38) -> 18 | B4: =RAND() -> 0.59490617 | C4: =VLOOKUP(I4,$K$2:$M$15,2) -> 500 | D4: =IF(MOD(J4,10)=0,J4+1,J4) -> 48 | E4: =VLOOKUP(I4,$K$2:$M$15,3) -> 2 | F4: =C4&" · "&D4&" · "&E4&" =" -> 500 · 48 · 2 = | G4: =C4&" · "&E4&" · "&D4&" = "&C4*E4&" · "&D4&" = "&C4*D4*E4 -> 500 · 2 · 48 = 1000 · 48 = 48000 | I4: =RANDBETWEEN(1,14) -> 13 | J4: =RANDBETWEEN(2,$A$1) -> 48 | K4: =K3+1 -> 3 | L4: 50 | M4: 2
A5: =_xlfn.RANK.EQ(B5,$B$2:$B$38) -> 24 | B5: =RAND() -> 0.32029126 | C5: =VLOOKUP(I5,$K$2:$M$15,2) -> 25 | D5: =IF(MOD(J5,10)=0,J5+1,J5) -> 48 | E5: =VLOOKUP(I5,$K$2:$M$15,3) -> 4 | F5: =C5&" · "&D5&" · "&E5&" =" -> 25 · 48 · 4 = | G5: =C5&" · "&E5&" · "&D5&" = "&C5*E5&" · "&D5&" = "&C5*D5*E5 -> 25 · 4 · 48 = 100 · 48 = 4800 | I5: =RANDBETWEEN(1,14) -> 2 | J5: =RANDBETWEEN(2,$A$1) -> 48 | K5: =K4+1 -> 4 | L5: 2 | M5: 50
A6: =_xlfn.RANK.EQ(B6,$B$2:$B$38) -> 2 | B6: =RAND() -> 0.97816264 | C6: =VLOOKUP(I6,$K$2:$M$15,2) -> 50 | D6: =IF(MOD(J6,10)=0,J6+1,J6) -> 24 | E6: =VLOOKUP(I6,$K$2:$M$15,3) -> 2 | F6: =C6&" · "&D6&" · "&E6&" =" -> 50 · 24 · 2 = | G6: =C6&" · "&E6&" · "&D6&" = "&C6*E6&" · "&D6&" = "&C6*D6*E6 -> 50 · 2 · 24 = 100 · 24 = 2400 | I6: =RANDBETWEEN(1,14) -> 3 | J6: =RANDBETWEEN(2,$A$1) -> 24 | K6: =K5+1 -> 5 | L6: 4 | M6: 25
A7: =_xlfn.RANK.EQ(B7,$B$2:$B$38) -> 33 | B7: =RAND() -> 0.12999079 | C7: =VLOOKUP(I7,$K$2:$M$15,2) -> 250 | D7: =IF(MOD(J7,10)=0,J7+1,J7) -> 22 | E7: =VLOOKUP(I7,$K$2:$M$15,3) -> 4 | F7: =C7&" · "&D7&" · "&E7&" =" -> 250 · 22 · 4 = | G7: =C7&" · "&E7&" · "&D7&" = "&C7*E7&" · "&D7&" = "&C7*D7*E7 -> 250 · 4 · 22 = 1000 · 22 = 22000 | I7: =RANDBETWEEN(1,14) -> 11 | J7: =RANDBETWEEN(2,$A$1) -> 22 | K7: =K6+1 -> 6 | L7: 5 | M7: 20
A8: =_xlfn.RANK.EQ(B8,$B$2:$B$38) -> 16 | B8: =RAND() -> 0.63027438 | C8: =VLOOKUP(I8,$K$2:$M$15,2) -> 500 | D8: =IF(MOD(J8,10)=0,J8+1,J8) -> 13 | E8: =VLOOKUP(I8,$K$2:$M$15,3) -> 2 | F8: =C8&" · "&D8&" · "&E8&" =" -> 500 · 13 · 2 = | G8: =C8&" · "&E8&" · "&D8&" = "&C8*E8&" · "&D8&" = "&C8*D8*E8 -> 500 · 2 · 13 = 1000 · 13 = 13000 | I8: =RANDBETWEEN(1,14) -> 13 | J8: =RANDBETWEEN(2,$A$1) -> 13 | K8: =K7+1 -> 7 | L8: 2 | M8: 5
A9: =_xlfn.RANK.EQ(B9,$B$2:$B$38) -> 3 | B9: =RAND() -> 0.97199643 | C9: =VLOOKUP(I9,$K$2:$M$15,2) -> 250 | D9: =IF(MOD(J9,10)=0,J9+1,J9) -> 6 | E9: =VLOOKUP(I9,$K$2:$M$15,3) -> 4 | F9: =C9&" · "&D9&" · "&E9&" =" -> 250 · 6 · 4 = | G9: =C9&" · "&E9&" · "&D9&" = "&C9*E9&" · "&D9&" = "&C9*D9*E9 -> 250 · 4 · 6 = 1000 · 6 = 6000 | I9: =RANDBETWEEN(1,14) -> 11 | J9: =RANDBETWEEN(2,$A$1) -> 6 | K9: =K8+1 -> 8 | L9: 5 | M9: 2
A10: =_xlfn.RANK.EQ(B10,$B$2:$B$38) -> 13 | B10: =RAND() -> 0.66139709 | C10: =VLOOKUP(I10,$K$2:$M$15,2) -> 25 | D10: =IF(MOD(J10,10)=0,J10+1,J10) -> 25 | E10: =VLOOKUP(I10,$K$2:$M$15,3) -> 4 | F10: =C10&" · "&D10&" · "&E10&" =" -> 25 · 25 · 4 = | G10: =C10&" · "&E10&" · "&D10&" = "&C10*E10&" · "&D10&" = "&C10*D10*E10 -> 25 · 4 · 25 = 100 · 25 = 2500 | I10: =RANDBETWEEN(1,14) -> 2 | J10: =RANDBETWEEN(2,$A$1) -> 25 | K10: =K9+1 -> 9 | L10: 200 | M10: 5
A11: =_xlfn.RANK.EQ(B11,$B$2:$B$38) -> 26 | B11: =RAND() -> 0.22485743 | C11: =VLOOKUP(I11,$K$2:$M$15,2) -> 5 | D11: =IF(MOD(J11,10)=0,J11+1,J11) -> 39 | E11: =VLOOKUP(I11,$K$2:$M$15,3) -> 20 | F11: =C11&" · "&D11&" · "&E11&" =" -> 5 · 39 · 20 = | G11: =C11&" · "&E11&" · "&D11&" = "&C11*E11&" · "&D11&" = "&C11*D11*E11 -> 5 · 20 · 39 = 100 · 39 = 3900 | I11: =RANDBETWEEN(1,14) -> 6 | J11: =RANDBETWEEN(2,$A$1) -> 39 | K11: =K10+1 -> 10 | L11: 5 | M11: 200
A12: =_xlfn.RANK.EQ(B12,$B$2:$B$38) -> 11 | B12: =RAND() -> 0.70420371 | C12: =VLOOKUP(I12,$K$2:$M$15,2) -> 2 | D12: =IF(MOD(J12,10)=0,J12+1,J12) -> 38 | E12: =VLOOKUP(I12,$K$2:$M$15,3) -> 50 | F12: =C12&" · "&D12&" · "&E12&" =" -> 2 · 38 · 50 = | G12: =C12&" · "&E12&" · "&D12&" = "&C12*E12&" · "&D12&" = "&C12*D12*E12 -> 2 · 50 · 38 = 100 · 38 = 3800 | I12: =RANDBETWEEN(1,14) -> 4 | J12: =RANDBETWEEN(2,$A$1) -> 38 | K12: =K11+1 -> 11 | L12: 250 | M12: 4
A13: =_xlfn.RANK.EQ(B13,$B$2:$B$38) -> 10 | B13: =RAND() -> 0.71410515 | C13: =VLOOKUP(I13,$K$2:$M$15,2) -> 4 | D13: =IF(MOD(J13,10)=0,J13+1,J13) -> 3 | E13: =VLOOKUP(I13,$K$2:$M$15,3) -> 25 | F13: =C13&" · "&D13&" · "&E13&" =" -> 4 · 3 · 25 = | G13: =C13&" · "&E13&" · "&D13&" = "&C13*E13&" · "&D13&" = "&C13*D13*E13 -> 4 · 25 · 3 = 100 · 3 = 300 | I13: =RANDBETWEEN(1,14) -> 5 | J13: =RANDBETWEEN(2,$A$1) -> 3 | K13: =K12+1 -> 12 | L13: 4 | M13: 250
A14: =_xlfn.RANK.EQ(B14,$B$2:$B$38) -> 5 | B14: =RAND() -> 0.90040167 | C14: =VLOOKUP(I14,$K$2:$M$15,2) -> 4 | D14: =IF(MOD(J14,10)=0,J14+1,J14) -> 2 | E14: =VLOOKUP(I14,$K$2:$M$15,3) -> 25 | F14: =C14&" · "&D14&" · "&E14&" =" -> 4 · 2 · 25 = | G14: =C14&" · "&E14&" · "&D14&" = "&C14*E14&" · "&D14&" = "&C14*D14*E14 -> 4 · 25 · 2 = 100 · 2 = 200 | I14: =RANDBETWEEN(1,14) -> 5 | J14: =RANDBETWEEN(2,$A$1) -> 2 | K14: =K13+1 -> 13 | L14: 500 | M14: 2
A15: =_xlfn.RANK.EQ(B15,$B$2:$B$38) -> 23 | B15: =RAND() -> 0.37879411 | C15: =VLOOKUP(I15,$K$2:$M$15,2) -> 2 | D15: =IF(MOD(J15,10)=0,J15+1,J15) -> 26 | E15: =VLOOKUP(I15,$K$2:$M$15,3) -> 5 | F15: =C15&" · "&D15&" · "&E15&" =" -> 2 · 26 · 5 = | G15: =C15&" · "&E15&" · "&D15&" = "&C15*E15&" · "&D15&" = "&C15*D15*E15 -> 2 · 5 · 26 = 10 · 26 = 260 | I15: =RANDBETWEEN(1,14) -> 7 | J15: =RANDBETWEEN(2,$A$1) -> 26 | K15: =K14+1 -> 14 | L15: 2 | M15: 500
A16: =_xlfn.RANK.EQ(B16,$B$2:$B$38) -> 4 | B16: =RAND() -> 0.96569496 | C16: =VLOOKUP(I16,$K$2:$M$15,2) -> 20 | D16: =IF(MOD(J16,10)=0,J16+1,J16) -> 47 | E16: =VLOOKUP(I16,$K$2:$M$15,3) -> 5 | F16: =C16&" · "&D16&" · "&E16&" =" -> 20 · 47 · 5 = | G16: =C16&" · "&E16&" · "&D16&" = "&C16*E16&" · "&D16&" = "&C16*D16*E16 -> 20 · 5 · 47 = 100 · 47 = 4700 | I16: =RANDBETWEEN(1,14) -> 1 | J16: =RANDBETWEEN(2,$A$1) -> 47
A17: =_xlfn.RANK.EQ(B17,$B$2:$B$38) -> 28 | B17: =RAND() -> 0.19029146 | C17: =VLOOKUP(I17,$K$2:$M$15,2) -> 500 | D17: =IF(MOD(J17,10)=0,J17+1,J17) -> 11 | E17: =VLOOKUP(I17,$K$2:$M$15,3) -> 2 | F17: =C17&" · "&D17&" · "&E17&" =" -> 500 · 11 · 2 = | G17: =C17&" · "&E17&" · "&D17&" = "&C17*E17&" · "&D17&" = "&C17*D17*E17 -> 500 · 2 · 11 = 1000 · 11 = 11000 | I17: =RANDBETWEEN(1,14) -> 13 | J17: =RANDBETWEEN(2,$A$1) -> 10
A18: =_xlfn.RANK.EQ(B18,$B$2:$B$38) -> 34 | B18: =RAND() -> 0.10101693 | C18: =VLOOKUP(I18,$K$2:$M$15,2) -> 250 | D18: =IF(MOD(J18,10)=0,J18+1,J18) -> 12 | E18: =VLOOKUP(I18,$K$2:$M$15,3) -> 4 | F18: =C18&" · "&D18&" · "&E18&" =" -> 250 · 12 · 4 = | G18: =C18&" · "&E18&" · "&D18&" = "&C18*E18&" · "&D18&" = "&C18*D18*E18 -> 250 · 4 · 12 = 1000 · 12 = 12000 | I18: =RANDBETWEEN(1,14) -> 11 | J18: =RANDBETWEEN(2,$A$1) -> 12
A19: =_xlfn.RANK.EQ(B19,$B$2:$B$38) -> 19 | B19: =RAND() -> 0.58121624 | C19: =VLOOKUP(I19,$K$2:$M$15,2) -> 2 | D19: =IF(MOD(J19,10)=0,J19+1,J19) -> 31 | E19: =VLOOKUP(I19,$K$2:$M$15,3) -> 50 | F19: =C19&" · "&D19&" · "&E19&" =" -> 2 · 31 · 50 = | G19: =C19&" · "&E19&" · "&D19&" = "&C19*E19&" · "&D19&" = "&C19*D19*E19 -> 2 · 50 · 31 = 100 · 31 = 3100 | I19: =RANDBETWEEN(1,14) -> 4 | J19: =RANDBETWEEN(2,$A$1) -> 30
A20: =_xlfn.RANK.EQ(B20,$B$2:$B$38) -> 20 | B20: =RAND() -> 0.48802585 | C20: =VLOOKUP(I20,$K$2:$M$15,2) -> 5 | D20: =IF(MOD(J20,10)=0,J20+1,J20) -> 8 | E20: =VLOOKUP(I20,$K$2:$M$15,3) -> 200 | F20: =C20&" · "&D20&" · "&E20&" =" -> 5 · 8 · 200 = | G20: =C20&" · "&E20&" · "&D20&" = "&C20*E20&" · "&D20&" = "&C20*D20*E20 -> 5 · 200 · 8 = 1000 · 8 = 8000 | I20: =RANDBETWEEN(1,14) -> 10 | J20: =RANDBETWEEN(2,$A$1) -> 8
A21: =_xlfn.RANK.EQ(B21,$B$2:$B$38) -> 37 | B21: =RAND() -> 0.047499213 | C21: =VLOOKUP(I21,$K$2:$M$15,2) -> 250 | D21: =IF(MOD(J21,10)=0,J21+1,J21) -> 39 | E21: =VLOOKUP(I21,$K$2:$M$15,3) -> 4 | F21: =C21&" · "&D21&" · "&E21&" =" -> 250 · 39 · 4 = | G21: =C21&" · "&E21&" · "&D21&" = "&C21*E21&" · "&D21&" = "&C21*D21*E21 -> 250 · 4 · 39 = 1000 · 39 = 39000 | I21: =RANDBETWEEN(1,14) -> 11 | J21: =RANDBETWEEN(2,$A$1) -> 39
A22: =_xlfn.RANK.EQ(B22,$B$2:$B$38) -> 30 | B22: =RAND() -> 0.16295644 | C22: =VLOOKUP(I22,$K$2:$M$15,2) -> 500 | D22: =IF(MOD(J22,10)=0,J22+1,J22) -> 45 | E22: =VLOOKUP(I22,$K$2:$M$15,3) -> 2 | F22: =C22&" · "&D22&" · "&E22&" =" -> 500 · 45 · 2 = | G22: =C22&" · "&E22&" · "&D22&" = "&C22*E22&" · "&D22&" = "&C22*D22*E22 -> 500 · 2 · 45 = 1000 · 45 = 45000 | I22: =RANDBETWEEN(1,14) -> 13 | J22: =RANDBETWEEN(2,$A$1) -> 45
A23: =_xlfn.RANK.EQ(B23,$B$2:$B$38) -> 12 | B23: =RAND() -> 0.68890804 | C23: =VLOOKUP(I23,$K$2:$M$15,2) -> 2 | D23: =IF(MOD(J23,10)=0,J23+1,J23) -> 19 | E23: =VLOOKUP(I23,$K$2:$M$15,3) -> 50 | F23: =C23&" · "&D23&" · "&E23&" =" -> 2 · 19 · 50 = | G23: =C23&" · "&E23&" · "&D23&" = "&C23*E23&" · "&D23&" = "&C23*D23*E23 -> 2 · 50 · 19 = 100 · 19 = 1900 | I23: =RANDBETWEEN(1,14) -> 4 | J23: =RANDBETWEEN(2,$A$1) -> 19
A24: =_xlfn.RANK.EQ(B24,$B$2:$B$38) -> 7 | B24: =RAND() -> 0.84678931 | C24: =VLOOKUP(I24,$K$2:$M$15,2) -> 200 | D24: =IF(MOD(J24,10)=0,J24+1,J24) -> 31 | E24: =VLOOKUP(I24,$K$2:$M$15,3) -> 5 | F24: =C24&" · "&D24&" · "&E24&" =" -> 200 · 31 · 5 = | G24: =C24&" · "&E24&" · "&D24&" = "&C24*E24&" · "&D24&" = "&C24*D24*E24 -> 200 · 5 · 31 = 1000 · 31 = 31000 | I24: =RANDBETWEEN(1,14) -> 9 | J24: =RANDBETWEEN(2,$A$1) -> 31
A25: =_xlfn.RANK.EQ(B25,$B$2:$B$38) -> 29 | B25: =RAND() -> 0.16928248 | C25: =VLOOKUP(I25,$K$2:$M$15,2) -> 2 | D25: =IF(MOD(J25,10)=0,J25+1,J25) -> 17 | E25: =VLOOKUP(I25,$K$2:$M$15,3) -> 50 | F25: =C25&" · "&D25&" · "&E25&" =" -> 2 · 17 · 50 = | G25: =C25&" · "&E25&" · "&D25&" = "&C25*E25&" · "&D25&" = "&C25*D25*E25 -> 2 · 50 · 17 = 100 · 17 = 1700 | I25: =RANDBETWEEN(1,14) -> 4 | J25: =RANDBETWEEN(2,$A$1) -> 17
A26: =_xlfn.RANK.EQ(B26,$B$2:$B$38) -> 21 | B26: =RAND() -> 0.45343371 | C26: =VLOOKUP(I26,$K$2:$M$15,2) -> 4 | D26: =IF(MOD(J26,10)=0,J26+1,J26) -> 27 | E26: =VLOOKUP(I26,$K$2:$M$15,3) -> 25 | F26: =C26&" · "&D26&" · "&E26&" =" -> 4 · 27 · 25 = | G26: =C26&" · "&E26&" · "&D26&" = "&C26*E26&" · "&D26&" = "&C26*D26*E26 -> 4 · 25 · 27 = 100 · 27 = 2700 | I26: =RANDBETWEEN(1,14) -> 5 | J26: =RANDBETWEEN(2,$A$1) -> 27
A27: =_xlfn.RANK.EQ(B27,$B$2:$B$38) -> 6 | B27: =RAND() -> 0.89950514 | C27: =VLOOKUP(I27,$K$2:$M$15,2) -> 4 | D27: =IF(MOD(J27,10)=0,J27+1,J27) -> 24 | E27: =VLOOKUP(I27,$K$2:$M$15,3) -> 250 | F27: =C27&" · "&D27&" · "&E27&" =" -> 4 · 24 · 250 = | G27: =C27&" · "&E27&" · "&D27&" = "&C27*E27&" · "&D27&" = "&C27*D27*E27 -> 4 · 250 · 24 = 1000 · 24 = 24000 | I27: =RANDBETWEEN(1,14) -> 12 | J27: =RANDBETWEEN(2,$A$1) -> 24
... A38: =_xlfn.RANK.EQ(B38,$B$2:$B$38) -> 27 | B38: =RAND() -> 0.2091682 | C38: =VLOOKUP(I38,$K$2:$M$15,2) -> 5 | D38: =IF(MOD(J38,10)=0,J38+1,J38) -> 31 | E38: =VLOOKUP(I38,$K$2:$M$15,3) -> 20 | F38: =C38&" · "&D38&" · "&E38&" =" -> 5 · 31 · 20 = | G38: =C38&" · "&E38&" · "&D38&" = "&C38*E38&" · "&D38&" = "&C38*D38*E38 -> 5 · 20 · 31 = 100 · 31 = 3100 | I38: =RANDBETWEEN(1,14) -> 6 | J38: =RANDBETWEEN(2,$A$1) -> 31

Sheet Tabelle3
A1: 50 | C1: y
A2: =_xlfn.RANK.EQ(B2,$B$2:$B$38) -> 11 | B2: =RAND() -> 0.8235474 | C2: =VLOOKUP(I2,$K$2:$M$15,2) -> 250 | D2: =IF(MOD(J2,10)=0,J2+1,J2) -> 13 | E2: =VLOOKUP(I2,$K$2:$M$15,3) -> 4 | F2: ="( "&D2&" · "&C2&" ) · "&E2&" =" -> ( 13 · 250 ) · 4 = | G2: =D2&" · ( "&C2&" · "&E2&" ) = "&D2&" · "&C2*E2&" = "&C2*D2*E2 -> 13 · ( 250 · 4 ) = 13 · 1000 = 13000 | I2: =RANDBETWEEN(1,14) -> 11 | J2: =RANDBETWEEN(2,$A$1) -> 13 | K2: 1 | L2: 20 | M2: 5
A3: =_xlfn.RANK.EQ(B3,$B$2:$B$38) -> 21 | B3: =RAND() -> 0.45278936 | C3: =VLOOKUP(I3,$K$2:$M$15,2) -> 5 | D3: =IF(MOD(J3,10)=0,J3+1,J3) -> 29 | E3: =VLOOKUP(I3,$K$2:$M$15,3) -> 2 | F3: ="( "&D3&" · "&C3&" ) · "&E3&" =" -> ( 29 · 5 ) · 2 = | G3: =D3&" · ( "&C3&" · "&E3&" ) = "&D3&" · "&C3*E3&" = "&C3*D3*E3 -> 29 · ( 5 · 2 ) = 29 · 10 = 290 | I3: =RANDBETWEEN(1,14) -> 8 | J3: =RANDBETWEEN(2,$A$1) -> 29 | K3: =K2+1 -> 2 | L3: 25 | M3: 4
A4: =_xlfn.RANK.EQ(B4,$B$2:$B$38) -> 23 | B4: =RAND() -> 0.39248746 | C4: =VLOOKUP(I4,$K$2:$M$15,2) -> 2 | D4: =IF(MOD(J4,10)=0,J4+1,J4) -> 14 | E4: =VLOOKUP(I4,$K$2:$M$15,3) -> 5 | F4: ="( "&D4&" · "&C4&" ) · "&E4&" =" -> ( 14 · 2 ) · 5 = | G4: =D4&" · ( "&C4&" · "&E4&" ) = "&D4&" · "&C4*E4&" = "&C4*D4*E4 -> 14 · ( 2 · 5 ) = 14 · 10 = 140 | I4: =RANDBETWEEN(1,14) -> 7 | J4: =RANDBETWEEN(2,$A$1) -> 14 | K4: =K3+1 -> 3 | L4: 50 | M4: 2
A5: =_xlfn.RANK.EQ(B5,$B$2:$B$38) -> 8 | B5: =RAND() -> 0.88136954 | C5: =VLOOKUP(I5,$K$2:$M$15,2) -> 20 | D5: =IF(MOD(J5,10)=0,J5+1,J5) -> 2 | E5: =VLOOKUP(I5,$K$2:$M$15,3) -> 5 | F5: ="( "&D5&" · "&C5&" ) · "&E5&" =" -> ( 2 · 20 ) · 5 = | G5: =D5&" · ( "&C5&" · "&E5&" ) = "&D5&" · "&C5*E5&" = "&C5*D5*E5 -> 2 · ( 20 · 5 ) = 2 · 100 = 200 | I5: =RANDBETWEEN(1,14) -> 1 | J5: =RANDBETWEEN(2,$A$1) -> 2 | K5: =K4+1 -> 4 | L5: 2 | M5: 50
A6: =_xlfn.RANK.EQ(B6,$B$2:$B$38) -> 20 | B6: =RAND() -> 0.45539458 | C6: =VLOOKUP(I6,$K$2:$M$15,2) -> 200 | D6: =IF(MOD(J6,10)=0,J6+1,J6) -> 7 | E6: =VLOOKUP(I6,$K$2:$M$15,3) -> 5 | F6: ="( "&D6&" · "&C6&" ) · "&E6&" =" -> ( 7 · 200 ) · 5 = | G6: =D6&" · ( "&C6&" · "&E6&" ) = "&D6&" · "&C6*E6&" = "&C6*D6*E6 -> 7 · ( 200 · 5 ) = 7 · 1000 = 7000 | I6: =RANDBETWEEN(1,14) -> 9 | J6: =RANDBETWEEN(2,$A$1) -> 7 | K6: =K5+1 -> 5 | L6: 4 | M6: 25
A7: =_xlfn.RANK.EQ(B7,$B$2:$B$38) -> 1 | B7: =RAND() -> 0.98979695 | C7: =VLOOKUP(I7,$K$2:$M$15,2) -> 5 | D7: =IF(MOD(J7,10)=0,J7+1,J7) -> 28 | E7: =VLOOKUP(I7,$K$2:$M$15,3) -> 20 | F7: ="( "&D7&" · "&C7&" ) · "&E7&" =" -> ( 28 · 5 ) · 20 = | G7: =D7&" · ( "&C7&" · "&E7&" ) = "&D7&" · "&C7*E7&" = "&C7*D7*E7 -> 28 · ( 5 · 20 ) = 28 · 100 = 2800 | I7: =RANDBETWEEN(1,14) -> 6 | J7: =RANDBETWEEN(2,$A$1) -> 28 | K7: =K6+1 -> 6 | L7: 5 | M7: 20
A8: =_xlfn.RANK.EQ(B8,$B$2:$B$38) -> 16 | B8: =RAND() -> 0.57118157 | C8: =VLOOKUP(I8,$K$2:$M$15,2) -> 250 | D8: =IF(MOD(J8,10)=0,J8+1,J8) -> 9 | E8: =VLOOKUP(I8,$K$2:$M$15,3) -> 4 | F8: ="( "&D8&" · "&C8&" ) · "&E8&" =" -> ( 9 · 250 ) · 4 = | G8: =D8&" · ( "&C8&" · "&E8&" ) = "&D8&" · "&C8*E8&" = "&C8*D8*E8 -> 9 · ( 250 · 4 ) = 9 · 1000 = 9000 | I8: =RANDBETWEEN(1,14) -> 11 | J8: =RANDBETWEEN(2,$A$1) -> 9 | K8: =K7+1 -> 7 | L8: 2 | M8: 5
A9: =_xlfn.RANK.EQ(B9,$B$2:$B$38) -> 33 | B9: =RAND() -> 0.14350422 | C9: =VLOOKUP(I9,$K$2:$M$15,2) -> 2 | D9: =IF(MOD(J9,10)=0,J9+1,J9) -> 15 | E9: =VLOOKUP(I9,$K$2:$M$15,3) -> 5 | F9: ="( "&D9&" · "&C9&" ) · "&E9&" =" -> ( 15 · 2 ) · 5 = | G9: =D9&" · ( "&C9&" · "&E9&" ) = "&D9&" · "&C9*E9&" = "&C9*D9*E9 -> 15 · ( 2 · 5 ) = 15 · 10 = 150 | I9: =RANDBETWEEN(1,14) -> 7 | J9: =RANDBETWEEN(2,$A$1) -> 15 | K9: =K8+1 -> 8 | L9: 5 | M9: 2
A10: =_xlfn.RANK.EQ(B10,$B$2:$B$38) -> 4 | B10: =RAND() -> 0.93797071 | C10: =VLOOKUP(I10,$K$2:$M$15,2) -> 4 | D10: =IF(MOD(J10,10)=0,J10+1,J10) -> 47 | E10: =VLOOKUP(I10,$K$2:$M$15,3) -> 250 | F10: ="( "&D10&" · "&C10&" ) · "&E10&" =" -> ( 47 · 4 ) · 250 = | G10: =D10&" · ( "&C10&" · "&E10&" ) = "&D10&" · "&C10*E10&" = "&C10*D10*E10 -> 47 · ( 4 · 250 ) = 47 · 1000 = 47000 | I10: =RANDBETWEEN(1,14) -> 12 | J10: =RANDBETWEEN(2,$A$1) -> 47 | K10: =K9+1 -> 9 | L10: 200 | M10: 5
A11: =_xlfn.RANK.EQ(B11,$B$2:$B$38) -> 29 | B11: =RAND() -> 0.29963528 | C11: =VLOOKUP(I11,$K$2:$M$15,2) -> 250 | D11: =IF(MOD(J11,10)=0,J11+1,J11) -> 27 | E11: =VLOOKUP(I11,$K$2:$M$15,3) -> 4 | F11: ="( "&D11&" · "&C11&" ) · "&E11&" =" -> ( 27 · 250 ) · 4 = | G11: =D11&" · ( "&C11&" · "&E11&" ) = "&D11&" · "&C11*E11&" = "&C11*D11*E11 -> 27 · ( 250 · 4 ) = 27 · 1000 = 27000 | I11: =RANDBETWEEN(1,14) -> 11 | J11: =RANDBETWEEN(2,$A$1) -> 27 | K11: =K10+1 -> 10 | L11: 5 | M11: 200
A12: =_xlfn.RANK.EQ(B12,$B$2:$B$38) -> 28 | B12: =RAND() -> 0.3065223 | C12: =VLOOKUP(I12,$K$2:$M$15,2) -> 5 | D12: =IF(MOD(J12,10)=0,J12+1,J12) -> 4 | E12: =VLOOKUP(I12,$K$2:$M$15,3) -> 200 | F12: ="( "&D12&" · "&C12&" ) · "&E12&" =" -> ( 4 · 5 ) · 200 = | G12: =D12&" · ( "&C12&" · "&E12&" ) = "&D12&" · "&C12*E12&" = "&C12*D12*E12 -> 4 · ( 5 · 200 ) = 4 · 1000 = 4000 | I12: =RANDBETWEEN(1,14) -> 10 | J12: =RANDBETWEEN(2,$A$1) -> 4 | K12: =K11+1 -> 11 | L12: 250 | M12: 4
A13: =_xlfn.RANK.EQ(B13,$B$2:$B$38) -> 12 | B13: =RAND() -> 0.79975285 | C13: =VLOOKUP(I13,$K$2:$M$15,2) -> 5 | D13: =IF(MOD(J13,10)=0,J13+1,J13) -> 31 | E13: =VLOOKUP(I13,$K$2:$M$15,3) -> 2 | F13: ="( "&D13&" · "&C13&" ) · "&E13&" =" -> ( 31 · 5 ) · 2 = | G13: =D13&" · ( "&C13&" · "&E13&" ) = "&D13&" · "&C13*E13&" = "&C13*D13*E13 -> 31 · ( 5 · 2 ) = 31 · 10 = 310 | I13: =RANDBETWEEN(1,14) -> 8 | J13: =RANDBETWEEN(2,$A$1) -> 31 | K13: =K12+1 -> 12 | L13: 4 | M13: 250
A14: =_xlfn.RANK.EQ(B14,$B$2:$B$38) -> 5 | B14: =RAND() -> 0.9218535 | C14: =VLOOKUP(I14,$K$2:$M$15,2) -> 250 | D14: =IF(MOD(J14,10)=0,J14+1,J14) -> 6 | E14: =VLOOKUP(I14,$K$2:$M$15,3) -> 4 | F14: ="( "&D14&" · "&C14&" ) · "&E14&" =" -> ( 6 · 250 ) · 4 = | G14: =D14&" · ( "&C14&" · "&E14&" ) = "&D14&" · "&C14*E14&" = "&C14*D14*E14 -> 6 · ( 250 · 4 ) = 6 · 1000 = 6000 | I14: =RANDBETWEEN(1,14) -> 11 | J14: =RANDBETWEEN(2,$A$1) -> 6 | K14: =K13+1 -> 13 | L14: 500 | M14: 2
A15: =_xlfn.RANK.EQ(B15,$B$2:$B$38) -> 34 | B15: =RAND() -> 0.12266704 | C15: =VLOOKUP(I15,$K$2:$M$15,2) -> 5 | D15: =IF(MOD(J15,10)=0,J15+1,J15) -> 29 | E15: =VLOOKUP(I15,$K$2:$M$15,3) -> 200 | F15: ="( "&D15&" · "&C15&" ) · "&E15&" =" -> ( 29 · 5 ) · 200 = | G15: =D15&" · ( "&C15&" · "&E15&" ) = "&D15&" · "&C15*E15&" = "&C15*D15*E15 -> 29 · ( 5 · 200 ) = 29 · 1000 = 29000 | I15: =RANDBETWEEN(1,14) -> 10 | J15: =RANDBETWEEN(2,$A$1) -> 29 | K15: =K14+1 -> 14 | L15: 2 | M15: 500
A16: =_xlfn.RANK.EQ(B16,$B$2:$B$38) -> 15 | B16: =RAND() -> 0.61461502 | C16: =VLOOKUP(I16,$K$2:$M$15,2) -> 20 | D16: =IF(MOD(J16,10)=0,J16+1,J16) -> 39 | E16: =VLOOKUP(I16,$K$2:$M$15,3) -> 5 | F16: ="( "&D16&" · "&C16&" ) · "&E16&" =" -> ( 39 · 20 ) · 5 = | G16: =D16&" · ( "&C16&" · "&E16&" ) = "&D16&" · "&C16*E16&" = "&C16*D16*E16 -> 39 · ( 20 · 5 ) = 39 · 100 = 3900 | I16: =RANDBETWEEN(1,14) -> 1 | J16: =RANDBETWEEN(2,$A$1) -> 39
A17: =_xlfn.RANK.EQ(B17,$B$2:$B$38) -> 32 | B17: =RAND() -> 0.20095784 | C17: =VLOOKUP(I17,$K$2:$M$15,2) -> 2 | D17: =IF(MOD(J17,10)=0,J17+1,J17) -> 48 | E17: =VLOOKUP(I17,$K$2:$M$15,3) -> 5 | F17: ="( "&D17&" · "&C17&" ) · "&E17&" =" -> ( 48 · 2 ) · 5 = | G17: =D17&" · ( "&C17&" · "&E17&" ) = "&D17&" · "&C17*E17&" = "&C17*D17*E17 -> 48 · ( 2 · 5 ) = 48 · 10 = 480 | I17: =RANDBETWEEN(1,14) -> 7 | J17: =RANDBETWEEN(2,$A$1) -> 48
A18: =_xlfn.RANK.EQ(B18,$B$2:$B$38) -> 22 | B18: =RAND() -> 0.44140481 | C18: =VLOOKUP(I18,$K$2:$M$15,2) -> 5 | D18: =IF(MOD(J18,10)=0,J18+1,J18) -> 42 | E18: =VLOOKUP(I18,$K$2:$M$15,3) -> 20 | F18: ="( "&D18&" · "&C18&" ) · "&E18&" =" -> ( 42 · 5 ) · 20 = | G18: =D18&" · ( "&C18&" · "&E18&" ) = "&D18&" · "&C18*E18&" = "&C18*D18*E18 -> 42 · ( 5 · 20 ) = 42 · 100 = 4200 | I18: =RANDBETWEEN(1,14) -> 6 | J18: =RANDBETWEEN(2,$A$1) -> 42
A19: =_xlfn.RANK.EQ(B19,$B$2:$B$38) -> 31 | B19: =RAND() -> 0.23161104 | C19: =VLOOKUP(I19,$K$2:$M$15,2) -> 200 | D19: =IF(MOD(J19,10)=0,J19+1,J19) -> 46 | E19: =VLOOKUP(I19,$K$2:$M$15,3) -> 5 | F19: ="( "&D19&" · "&C19&" ) · "&E19&" =" -> ( 46 · 200 ) · 5 = | G19: =D19&" · ( "&C19&" · "&E19&" ) = "&D19&" · "&C19*E19&" = "&C19*D19*E19 -> 46 · ( 200 · 5 ) = 46 · 1000 = 46000 | I19: =RANDBETWEEN(1,14) -> 9 | J19: =RANDBETWEEN(2,$A$1) -> 46
A20: =_xlfn.RANK.EQ(B20,$B$2:$B$38) -> 27 | B20: =RAND() -> 0.33678551 | C20: =VLOOKUP(I20,$K$2:$M$15,2) -> 20 | D20: =IF(MOD(J20,10)=0,J20+1,J20) -> 44 | E20: =VLOOKUP(I20,$K$2:$M$15,3) -> 5 | F20: ="( "&D20&" · "&C20&" ) · "&E20&" =" -> ( 44 · 20 ) · 5 = | G20: =D20&" · ( "&C20&" · "&E20&" ) = "&D20&" · "&C20*E20&" = "&C20*D20*E20 -> 44 · ( 20 · 5 ) = 44 · 100 = 4400 | I20: =RANDBETWEEN(1,14) -> 1 | J20: =RANDBETWEEN(2,$A$1) -> 44
A21: =_xlfn.RANK.EQ(B21,$B$2:$B$38) -> 18 | B21: =RAND() -> 0.52036869 | C21: =VLOOKUP(I21,$K$2:$M$15,2) -> 500 | D21: =IF(MOD(J21,10)=0,J21+1,J21) -> 44 | E21: =VLOOKUP(I21,$K$2:$M$15,3) -> 2 | F21: ="( "&D21&" · "&C21&" ) · "&E21&" =" -> ( 44 · 500 ) · 2 = | G21: =D21&" · ( "&C21&" · "&E21&" ) = "&D21&" · "&C21*E21&" = "&C21*D21*E21 -> 44 · ( 500 · 2 ) = 44 · 1000 = 44000 | I21: =RANDBETWEEN(1,14) -> 13 | J21: =RANDBETWEEN(2,$A$1) -> 44
A22: =_xlfn.RANK.EQ(B22,$B$2:$B$38) -> 26 | B22: =RAND() -> 0.3617022 | C22: =VLOOKUP(I22,$K$2:$M$15,2) -> 25 | D22: =IF(MOD(J22,10)=0,J22+1,J22) -> 13 | E22: =VLOOKUP(I22,$K$2:$M$15,3) -> 4 | F22: ="( "&D22&" · "&C22&" ) · "&E22&" =" -> ( 13 · 25 ) · 4 = | G22: =D22&" · ( "&C22&" · "&E22&" ) = "&D22&" · "&C22*E22&" = "&C22*D22*E22 -> 13 · ( 25 · 4 ) = 13 · 100 = 1300 | I22: =RANDBETWEEN(1,14) -> 2 | J22: =RANDBETWEEN(2,$A$1) -> 13
A23: =_xlfn.RANK.EQ(B23,$B$2:$B$38) -> 24 | B23: =RAND() -> 0.36625659 | C23: =VLOOKUP(I23,$K$2:$M$15,2) -> 500 | D23: =IF(MOD(J23,10)=0,J23+1,J23) -> 13 | E23: =VLOOKUP(I23,$K$2:$M$15,3) -> 2 | F23: ="( "&D23&" · "&C23&" ) · "&E23&" =" -> ( 13 · 500 ) · 2 = | G23: =D23&" · ( "&C23&" · "&E23&" ) = "&D23&" · "&C23*E23&" = "&C23*D23*E23 -> 13 · ( 500 · 2 ) = 13 · 1000 = 13000 | I23: =RANDBETWEEN(1,14) -> 13 | J23: =RANDBETWEEN(2,$A$1) -> 13
A24: =_xlfn.RANK.EQ(B24,$B$2:$B$38) -> 19 | B24: =RAND() -> 0.46064694 | C24: =VLOOKUP(I24,$K$2:$M$15,2) -> 2 | D24: =IF(MOD(J24,10)=0,J24+1,J24) -> 15 | E24: =VLOOKUP(I24,$K$2:$M$15,3) -> 5 | F24: ="( "&D24&" · "&C24&" ) · "&E24&" =" -> ( 15 · 2 ) · 5 = | G24: =D24&" · ( "&C24&" · "&E24&" ) = "&D24&" · "&C24*E24&" = "&C24*D24*E24 -> 15 · ( 2 · 5 ) = 15 · 10 = 150 | I24: =RANDBETWEEN(1,14) -> 7 | J24: =RANDBETWEEN(2,$A$1) -> 15
A25: =_xlfn.RANK.EQ(B25,$B$2:$B$38) -> 37 | B25: =RAND() -> 0.0060785705 | C25: =VLOOKUP(I25,$K$2:$M$15,2) -> 200 | D25: =IF(MOD(J25,10)=0,J25+1,J25) -> 31 | E25: =VLOOKUP(I25,$K$2:$M$15,3) -> 5 | F25: ="( "&D25&" · "&C25&" ) · "&E25&" =" -> ( 31 · 200 ) · 5 = | G25: =D25&" · ( "&C25&" · "&E25&" ) = "&D25&" · "&C25*E25&" = "&C25*D25*E25 -> 31 · ( 200 · 5 ) = 31 · 1000 = 31000 | I25: =RANDBETWEEN(1,14) -> 9 | J25: =RANDBETWEEN(2,$A$1) -> 31
A26: =_xlfn.RANK.EQ(B26,$B$2:$B$38) -> 25 | B26: =RAND() -> 0.36326213 | C26: =VLOOKUP(I26,$K$2:$M$15,2) -> 20 | D26: =IF(MOD(J26,10)=0,J26+1,J26) -> 15 | E26: =VLOOKUP(I26,$K$2:$M$15,3) -> 5 | F26: ="( "&D26&" · "&C26&" ) · "&E26&" =" -> ( 15 · 20 ) · 5 = | G26: =D26&" · ( "&C26&" · "&E26&" ) = "&D26&" · "&C26*E26&" = "&C26*D26*E26 -> 15 · ( 20 · 5 ) = 15 · 100 = 1500 | I26: =RANDBETWEEN(1,14) -> 1 | J26: =RANDBETWEEN(2,$A$1) -> 15
A27: =_xlfn.RANK.EQ(B27,$B$2:$B$38) -> 2 | B27: =RAND() -> 0.97669492 | C27: =VLOOKUP(I27,$K$2:$M$15,2) -> 500 | D27: =IF(MOD(J27,10)=0,J27+1,J27) -> 29 | E27: =VLOOKUP(I27,$K$2:$M$15,3) -> 2 | F27: ="( "&D27&" · "&C27&" ) · "&E27&" =" -> ( 29 · 500 ) · 2 = | G27: =D27&" · ( "&C27&" · "&E27&" ) = "&D27&" · "&C27*E27&" = "&C27*D27*E27 -> 29 · ( 500 · 2 ) = 29 · 1000 = 29000 | I27: =RANDBETWEEN(1,14) -> 13 | J27: =RANDBETWEEN(2,$A$1) -> 29
... A38: =_xlfn.RANK.EQ(B38,$B$2:$B$38) -> 17 | B38: =RAND() -> 0.57044092 | C38: =VLOOKUP(I38,$K$2:$M$15,2) -> 2 | D38: =IF(MOD(J38,10)=0,J38+1,J38) -> 49 | E38: =VLOOKUP(I38,$K$2:$M$15,3) -> 5 | F38: ="( "&D38&" · "&C38&" ) · "&E38&" =" -> ( 49 · 2 ) · 5 = | G38: =D38&" · ( "&C38&" · "&E38&" ) = "&D38&" · "&C38*E38&" = "&C38*D38*E38 -> 49 · ( 2 · 5 ) = 49 · 10 = 490 | I38: =RANDBETWEEN(1,14) -> 7 | J38: =RANDBETWEEN(2,$A$1) -> 49

Sheet Daten1
A1: 37 | C1: x | D1: y
A2: =ROUND(RAND()*(A1-1)+0.5,0) -> 32 | B2: =MOD(B1+$A$2,$A$1) -> 32 | C2: =ROUND(RAND()*8+1,0) -> 9 | D2: =C2+ROUND(RAND()*8+1,0)*10 -> 39 | E2: =ROUND(RAND()*8+1,0)+(10-C2)+ROUND(RAND()*8+1,0)*10 -> 66 | F2: =(10-C2)+ROUND(RAND()*8+1,0)*10 -> 51 | G2: =D2&" + "&E2&" + "&F2&" =" -> 39 + 66 + 51 = | H2: =D2&" + "&F2&" + "&E2&" = "&D2+F2&" + "&E2&" = "&D2+E2+F2 -> 39 + 51 + 66 = 90 + 66 = 156
B3: =MOD(B2+$A$2,$A$1) -> 27 | C3: =ROUND(RAND()*8+1,0) -> 2 | D3: =C3+ROUND(RAND()*8+1,0)*10 -> 52 | E3: =ROUND(RAND()*8+1,0)+(10-C3)+ROUND(RAND()*8+1,0)*10 -> 40 | F3: =(10-C3)+ROUND(RAND()*8+1,0)*10 -> 48 | G3: =D3&" + "&E3&" + "&F3&" =" -> 52 + 40 + 48 = | H3: =D3&" + "&F3&" + "&E3&" = "&D3+F3&" + "&E3&" = "&D3+E3+F3 -> 52 + 48 + 40 = 100 + 40 = 140
B4: =MOD(B3+$A$2,$A$1) -> 22 | C4: =ROUND(RAND()*8+1,0) -> 1 | D4: =C4+ROUND(RAND()*8+1,0)*10 -> 21 | E4: =ROUND(RAND()*8+1,0)+(10-C4)+ROUND(RAND()*8+1,0)*10 -> 46 | F4: =(10-C4)+ROUND(RAND()*8+1,0)*10 -> 49 | G4: =D4&" + "&E4&" + "&F4&" =" -> 21 + 46 + 49 = | H4: =D4&" + "&F4&" + "&E4&" = "&D4+F4&" + "&E4&" = "&D4+E4+F4 -> 21 + 49 + 46 = 70 + 46 = 116
B5: =MOD(B4+$A$2,$A$1) -> 17 | C5: =ROUND(RAND()*8+1,0) -> 3 | D5: =C5+ROUND(RAND()*8+1,0)*10 -> 73 | E5: =ROUND(RAND()*8+1,0)+(10-C5)+ROUND(RAND()*8+1,0)*10 -> 54 | F5: =(10-C5)+ROUND(RAND()*8+1,0)*10 -> 37 | G5: =D5&" + "&E5&" + "&F5&" =" -> 73 + 54 + 37 = | H5: =D5&" + "&F5&" + "&E5&" = "&D5+F5&" + "&E5&" = "&D5+E5+F5 -> 73 + 37 + 54 = 110 + 54 = 164
B6: =MOD(B5+$A$2,$A$1) -> 12 | C6: =ROUND(RAND()*8+1,0) -> 3 | D6: =C6+ROUND(RAND()*8+1,0)*10 -> 83 | E6: =ROUND(RAND()*8+1,0)+(10-C6)+ROUND(RAND()*8+1,0)*10 -> 60 | F6: =(10-C6)+ROUND(RAND()*8+1,0)*10 -> 27 | G6: =D6&" + "&E6&" + "&F6&" =" -> 83 + 60 + 27 = | H6: =D6&" + "&F6&" + "&E6&" = "&D6+F6&" + "&E6&" = "&D6+E6+F6 -> 83 + 27 + 60 = 110 + 60 = 170
B7: =MOD(B6+$A$2,$A$1) -> 7 | C7: =ROUND(RAND()*8+1,0) -> 7 | D7: =C7+ROUND(RAND()*8+1,0)*10 -> 57 | E7: =ROUND(RAND()*8+1,0)+(10-C7)+ROUND(RAND()*8+1,0)*10 -> 100 | F7: =(10-C7)+ROUND(RAND()*8+1,0)*10 -> 63 | G7: =D7&" + "&E7&" + "&F7&" =" -> 57 + 100 + 63 = | H7: =D7&" + "&F7&" + "&E7&" = "&D7+F7&" + "&E7&" = "&D7+E7+F7 -> 57 + 63 + 100 = 120 + 100 = 220
B8: =MOD(B7+$A$2,$A$1) -> 2 | C8: =ROUND(RAND()*8+1,0) -> 5 | D8: =C8+ROUND(RAND()*8+1,0)*10 -> 55 | E8: =ROUND(RAND()*8+1,0)+(10-C8)+ROUND(RAND()*8+1,0)*10 -> 21 | F8: =(10-C8)+ROUND(RAND()*8+1,0)*10 -> 65 | G8: =D8&" + "&E8&" + "&F8&" =" -> 55 + 21 + 65 = | H8: =D8&" + "&F8&" + "&E8&" = "&D8+F8&" + "&E8&" = "&D8+E8+F8 -> 55 + 65 + 21 = 120 + 21 = 141
B9: =MOD(B8+$A$2,$A$1) -> 34 | C9: =ROUND(RAND()*8+1,0) -> 6 | D9: =C9+ROUND(RAND()*8+1,0)*10 -> 46 | E9: =ROUND(RAND()*8+1,0)+(10-C9)+ROUND(RAND()*8+1,0)*10 -> 37 | F9: =(10-C9)+ROUND(RAND()*8+1,0)*10 -> 44 | G9: =D9&" + "&E9&" + "&F9&" =" -> 46 + 37 + 44 = | H9: =D9&" + "&F9&" + "&E9&" = "&D9+F9&" + "&E9&" = "&D9+E9+F9 -> 46 + 44 + 37 = 90 + 37 = 127
B10: =MOD(B9+$A$2,$A$1) -> 29 | C10: =ROUND(RAND()*8+1,0) -> 9 | D10: =C10+ROUND(RAND()*8+1,0)*10 -> 49 | E10: =ROUND(RAND()*8+1,0)+(10-C10)+ROUND(RAND()*8+1,0)*10 -> 76 | F10: =(10-C10)+ROUND(RAND()*8+1,0)*10 -> 61 | G10: =D10&" + "&E10&" + "&F10&" =" -> 49 + 76 + 61 = | H10: =D10&" + "&F10&" + "&E10&" = "&D10+F10&" + "&E10&" = "&D10+E10+F10 -> 49 + 61 + 76 = 110 + 76 = 186
B11: =MOD(B10+$A$2,$A$1) -> 24 | C11: =ROUND(RAND()*8+1,0) -> 1 | D11: =C11+ROUND(RAND()*8+1,0)*10 -> 41 | E11: =ROUND(RAND()*8+1,0)+(10-C11)+ROUND(RAND()*8+1,0)*10 -> 23 | F11: =(10-C11)+ROUND(RAND()*8+1,0)*10 -> 89 | G11: =D11&" + "&E11&" + "&F11&" =" -> 41 + 23 + 89 = | H11: =D11&" + "&F11&" + "&E11&" = "&D11+F11&" + "&E11&" = "&D11+E11+F11 -> 41 + 89 + 23 = 130 + 23 = 153
B12: =MOD(B11+$A$2,$A$1) -> 19 | C12: =ROUND(RAND()*8+1,0) -> 4 | D12: =C12+ROUND(RAND()*8+1,0)*10 -> 54 | E12: =ROUND(RAND()*8+1,0)+(10-C12)+ROUND(RAND()*8+1,0)*10 -> 62 | F12: =(10-C12)+ROUND(RAND()*8+1,0)*10 -> 56 | G12: =D12&" + "&E12&" + "&F12&" =" -> 54 + 62 + 56 = | H12: =D12&" + "&F12&" + "&E12&" = "&D12+F12&" + "&E12&" = "&D12+E12+F12 -> 54 + 56 + 62 = 110 + 62 = 172
B13: =MOD(B12+$A$2,$A$1) -> 14 | C13: =ROUND(RAND()*8+1,0) -> 3 | D13: =C13+ROUND(RAND()*8+1,0)*10 -> 63 | E13: =ROUND(RAND()*8+1,0)+(10-C13)+ROUND(RAND()*8+1,0)*10 -> 38 | F13: =(10-C13)+ROUND(RAND()*8+1,0)*10 -> 47 | G13: =D13&" + "&E13&" + "&F13&" =" -> 63 + 38 + 47 = | H13: =D13&" + "&F13&" + "&E13&" = "&D13+F13&" + "&E13&" = "&D13+E13+F13 -> 63 + 47 + 38 = 110 + 38 = 148
B14: =MOD(B13+$A$2,$A$1) -> 9 | C14: =ROUND(RAND()*8+1,0) -> 9 | D14: =C14+ROUND(RAND()*8+1,0)*10 -> 29 | E14: =ROUND(RAND()*8+1,0)+(10-C14)+ROUND(RAND()*8+1,0)*10 -> 87 | F14: =(10-C14)+ROUND(RAND()*8+1,0)*10 -> 91 | G14: =D14&" + "&E14&" + "&F14&" =" -> 29 + 87 + 91 = | H14: =D14&" + "&F14&" + "&E14&" = "&D14+F14&" + "&E14&" = "&D14+E14+F14 -> 29 + 91 + 87 = 120 + 87 = 207
... B38: =MOD(B37+$A$2,$A$1) -> 0 | C38: =ROUND(RAND()*8+1,0) -> 5 | D38: =C38+ROUND(RAND()*8+1,0)*10 -> 45 | E38: =ROUND(RAND()*8+1,0)+(10-C38)+ROUND(RAND()*8+1,0)*10 -> 30 | F38: =(10-C38)+ROUND(RAND()*8+1,0)*10 -> 65 | G38: =D38&" + "&E38&" + "&F38&" =" -> 45 + 30 + 65 = | H38: =D38&" + "&F38&" + "&E38&" = "&D38+F38&" + "&E38&" = "&D38+E38+F38 -> 45 + 65 + 30 = 110 + 30 = 140

Sheet Daten2
A1: 37 | C1: x | D1: y
A2: =ROUND(RAND()*(A1-1)+0.5,0) -> 4 | B2: =MOD(B1+$A$2,$A$1) -> 4 | C2: =ROUND(RAND()*8+1,0) -> 8 | D2: =C2+ROUND(RAND()*8+1,0)*10 -> 88 | E2: =ROUND(RAND()*8+1,0)+(10-C2)+ROUND(RAND()*8+1,0)*10 -> 60 | F2: =(10-C2)+ROUND(RAND()*8+1,0)*10 -> 72 | G2: ="("&E2&" + "&D2&") + "&F2&" =" -> (60 + 88) + 72 = | H2: =E2&" + ("&D2&" + "&F2&") = "&E2&" + "&D2+F2&" = "&D2+E2+F2 -> 60 + (88 + 72) = 60 + 160 = 220
B3: =MOD(B2+$A$2,$A$1) -> 8 | C3: =ROUND(RAND()*8+1,0) -> 8 | D3: =C3+ROUND(RAND()*8+1,0)*10 -> 38 | E3: =ROUND(RAND()*8+1,0)+(10-C3)+ROUND(RAND()*8+1,0)*10 -> 76 | F3: =(10-C3)+ROUND(RAND()*8+1,0)*10 -> 12 | G3: ="("&E3&" + "&D3&") + "&F3&" =" -> (76 + 38) + 12 = | H3: =E3&" + ("&D3&" + "&F3&") = "&E3&" + "&D3+F3&" = "&D3+E3+F3 -> 76 + (38 + 12) = 76 + 50 = 126
B4: =MOD(B3+$A$2,$A$1) -> 12 | C4: =ROUND(RAND()*8+1,0) -> 7 | D4: =C4+ROUND(RAND()*8+1,0)*10 -> 97 | E4: =ROUND(RAND()*8+1,0)+(10-C4)+ROUND(RAND()*8+1,0)*10 -> 80 | F4: =(10-C4)+ROUND(RAND()*8+1,0)*10 -> 73 | G4: ="("&E4&" + "&D4&") + "&F4&" =" -> (80 + 97) + 73 = | H4: =E4&" + ("&D4&" + "&F4&") = "&E4&" + "&D4+F4&" = "&D4+E4+F4 -> 80 + (97 + 73) = 80 + 170 = 250
B5: =MOD(B4+$A$2,$A$1) -> 16 | C5: =ROUND(RAND()*8+1,0) -> 5 | D5: =C5+ROUND(RAND()*8+1,0)*10 -> 75 | E5: =ROUND(RAND()*8+1,0)+(10-C5)+ROUND(RAND()*8+1,0)*10 -> 31 | F5: =(10-C5)+ROUND(RAND()*8+1,0)*10 -> 95 | G5: ="("&E5&" + "&D5&") + "&F5&" =" -> (31 + 75) + 95 = | H5: =E5&" + ("&D5&" + "&F5&") = "&E5&" + "&D5+F5&" = "&D5+E5+F5 -> 31 + (75 + 95) = 31 + 170 = 201
B6: =MOD(B5+$A$2,$A$1) -> 20 | C6: =ROUND(RAND()*8+1,0) -> 6 | D6: =C6+ROUND(RAND()*8+1,0)*10 -> 96 | E6: =ROUND(RAND()*8+1,0)+(10-C6)+ROUND(RAND()*8+1,0)*10 -> 61 | F6: =(10-C6)+ROUND(RAND()*8+1,0)*10 -> 44 | G6: ="("&E6&" + "&D6&") + "&F6&" =" -> (61 + 96) + 44 = | H6: =E6&" + ("&D6&" + "&F6&") = "&E6&" + "&D6+F6&" = "&D6+E6+F6 -> 61 + (96 + 44) = 61 + 140 = 201
B7: =MOD(B6+$A$2,$A$1) -> 24 | C7: =ROUND(RAND()*8+1,0) -> 6 | D7: =C7+ROUND(RAND()*8+1,0)*10 -> 36 | E7: =ROUND(RAND()*8+1,0)+(10-C7)+ROUND(RAND()*8+1,0)*10 -> 47 | F7: =(10-C7)+ROUND(RAND()*8+1,0)*10 -> 94 | G7: ="("&E7&" + "&D7&") + "&F7&" =" -> (47 + 36) + 94 = | H7: =E7&" + ("&D7&" + "&F7&") = "&E7&" + "&D7+F7&" = "&D7+E7+F7 -> 47 + (36 + 94) = 47 + 130 = 177
B8: =MOD(B7+$A$2,$A$1) -> 28 | C8: =ROUND(RAND()*8+1,0) -> 3 | D8: =C8+ROUND(RAND()*8+1,0)*10 -> 53 | E8: =ROUND(RAND()*8+1,0)+(10-C8)+ROUND(RAND()*8+1,0)*10 -> 73 | F8: =(10-C8)+ROUND(RAND()*8+1,0)*10 -> 87 | G8: ="("&E8&" + "&D8&") + "&F8&" =" -> (73 + 53) + 87 = | H8: =E8&" + ("&D8&" + "&F8&") = "&E8&" + "&D8+F8&" = "&D8+E8+F8 -> 73 + (53 + 87) = 73 + 140 = 213
B9: =MOD(B8+$A$2,$A$1) -> 32 | C9: =ROUND(RAND()*8+1,0) -> 5 | D9: =C9+ROUND(RAND()*8+1,0)*10 -> 75 | E9: =ROUND(RAND()*8+1,0)+(10-C9)+ROUND(RAND()*8+1,0)*10 -> 19 | F9: =(10-C9)+ROUND(RAND()*8+1,0)*10 -> 85 | G9: ="("&E9&" + "&D9&") + "&F9&" =" -> (19 + 75) + 85 = | H9: =E9&" + ("&D9&" + "&F9&") = "&E9&" + "&D9+F9&" = "&D9+E9+F9 -> 19 + (75 + 85) = 19 + 160 = 179
B10: =MOD(B9+$A$2,$A$1) -> 36 | C10: =ROUND(RAND()*8+1,0) -> 8 | D10: =C10+ROUND(RAND()*8+1,0)*10 -> 78 | E10: =ROUND(RAND()*8+1,0)+(10-C10)+ROUND(RAND()*8+1,0)*10 -> 36 | F10: =(10-C10)+ROUND(RAND()*8+1,0)*10 -> 82 | G10: ="("&E10&" + "&D10&") + "&F10&" =" -> (36 + 78) + 82 = | H10: =E10&" + ("&D10&" + "&F10&") = "&E10&" + "&D10+F10&" = "&D10+E10+F10 -> 36 + (78 + 82) = 36 + 160 = 196
B11: =MOD(B10+$A$2,$A$1) -> 3 | C11: =ROUND(RAND()*8+1,0) -> 8 | D11: =C11+ROUND(RAND()*8+1,0)*10 -> 48 | E11: =ROUND(RAND()*8+1,0)+(10-C11)+ROUND(RAND()*8+1,0)*10 -> 21 | F11: =(10-C11)+ROUND(RAND()*8+1,0)*10 -> 72 | G11: ="("&E11&" + "&D11&") + "&F11&" =" -> (21 + 48) + 72 = | H11: =E11&" + ("&D11&" + "&F11&") = "&E11&" + "&D11+F11&" = "&D11+E11+F11 -> 21 + (48 + 72) = 21 + 120 = 141
B12: =MOD(B11+$A$2,$A$1) -> 7 | C12: =ROUND(RAND()*8+1,0) -> 6 | D12: =C12+ROUND(RAND()*8+1,0)*10 -> 76 | E12: =ROUND(RAND()*8+1,0)+(10-C12)+ROUND(RAND()*8+1,0)*10 -> 58 | F12: =(10-C12)+ROUND(RAND()*8+1,0)*10 -> 54 | G12: ="("&E12&" + "&D12&") + "&F12&" =" -> (58 + 76) + 54 = | H12: =E12&" + ("&D12&" + "&F12&") = "&E12&" + "&D12+F12&" = "&D12+E12+F12 -> 58 + (76 + 54) = 58 + 130 = 188
B13: =MOD(B12+$A$2,$A$1) -> 11 | C13: =ROUND(RAND()*8+1,0) -> 6 | D13: =C13+ROUND(RAND()*8+1,0)*10 -> 66 | E13: =ROUND(RAND()*8+1,0)+(10-C13)+ROUND(RAND()*8+1,0)*10 -> 38 | F13: =(10-C13)+ROUND(RAND()*8+1,0)*10 -> 44 | G13: ="("&E13&" + "&D13&") + "&F13&" =" -> (38 + 66) + 44 = | H13: =E13&" + ("&D13&" + "&F13&") = "&E13&" + "&D13+F13&" = "&D13+E13+F13 -> 38 + (66 + 44) = 38 + 110 = 148
B14: =MOD(B13+$A$2,$A$1) -> 15 | C14: =ROUND(RAND()*8+1,0) -> 3 | D14: =C14+ROUND(RAND()*8+1,0)*10 -> 33 | E14: =ROUND(RAND()*8+1,0)+(10-C14)+ROUND(RAND()*8+1,0)*10 -> 84 | F14: =(10-C14)+ROUND(RAND()*8+1,0)*10 -> 27 | G14: ="("&E14&" + "&D14&") + "&F14&" =" -> (84 + 33) + 27 = | H14: =E14&" + ("&D14&" + "&F14&") = "&E14&" + "&D14+F14&" = "&D14+E14+F14 -> 84 + (33 + 27) = 84 + 60 = 144
... B38: =MOD(B37+$A$2,$A$1) -> 0 | C38: =ROUND(RAND()*8+1,0) -> 5 | D38: =C38+ROUND(RAND()*8+1,0)*10 -> 45 | E38: =ROUND(RAND()*8+1,0)+(10-C38)+ROUND(RAND()*8+1,0)*10 -> 89 | F38: =(10-C38)+ROUND(RAND()*8+1,0)*10 -> 45 | G38: ="("&E38&" + "&D38&") + "&F38&" =" -> (89 + 45) + 45 = | H38: =E38&" + ("&D38&" + "&F38&") = "&E38&" + "&D38+F38&" = "&D38+E38+F38 -> 89 + (45 + 45) = 89 + 90 = 179

Sheet Daten3
D1: x | E1: y
A2: =RANK(B2,$B$2:$B$38) -> 10 | B2: =RAND() -> 0.63015047 | C2: =ROUND(RAND()*8+1,0) -> 8 | D2: =ROUND(RAND()*8+1,0)*10-C2 -> 72 | E2: =ROUND(RAND()*20+10,0) -> 15 | H2: =C2&" · "&E2&" + "&D2&" · "&E2 -> 8 · 15 + 72 · 15 | I2: ="= ("&C2&" + "&D2&") · "&E2&" = "&C2+D2&" · "&E2&" = "&(C2+D2)*E2 -> = (8 + 72) · 15 = 80 · 15 = 1200 | J2: =" ("&C2&" + "&D2&") · "&E2&" = " -> (8 + 72) · 15 =
A3: =RANK(B3,$B$2:$B$38) -> 26 | B3: =RAND() -> 0.21056689 | C3: =ROUND(RAND()*8+1,0) -> 3 | D3: =ROUND(RAND()*8+1,0)*10-C3 -> 37 | E3: =ROUND(RAND()*20+10,0) -> 29 | H3: =C3&" · "&E3&" + "&D3&" · "&E3 -> 3 · 29 + 37 · 29 | I3: ="= ("&C3&" + "&D3&") · "&E3&" = "&C3+D3&" · "&E3&" = "&(C3+D3)*E3 -> = (3 + 37) · 29 = 40 · 29 = 1160 | J3: =" ("&C3&" + "&D3&") · "&E3&" = " -> (3 + 37) · 29 =
A4: =RANK(B4,$B$2:$B$38) -> 24 | B4: =RAND() -> 0.25467253 | C4: =ROUND(RAND()*8+1,0) -> 2 | D4: =ROUND(RAND()*8+1,0)*10-C4 -> 48 | E4: =ROUND(RAND()*20+10,0) -> 11 | H4: =C4&" · "&E4&" + "&D4&" · "&E4 -> 2 · 11 + 48 · 11 | I4: ="= ("&C4&" + "&D4&") · "&E4&" = "&C4+D4&" · "&E4&" = "&(C4+D4)*E4 -> = (2 + 48) · 11 = 50 · 11 = 550 | J4: =" ("&C4&" + "&D4&") · "&E4&" = " -> (2 + 48) · 11 =
A5: =RANK(B5,$B$2:$B$38) -> 14 | B5: =RAND() -> 0.52500635 | C5: =ROUND(RAND()*8+1,0) -> 6 | D5: =ROUND(RAND()*8+1,0)*10-C5 -> 44 | E5: =ROUND(RAND()*20+10,0) -> 26 | H5: =C5&" · "&E5&" + "&D5&" · "&E5 -> 6 · 26 + 44 · 26 | I5: ="= ("&C5&" + "&D5&") · "&E5&" = "&C5+D5&" · "&E5&" = "&(C5+D5)*E5 -> = (6 + 44) · 26 = 50 · 26 = 1300 | J5: =" ("&C5&" + "&D5&") · "&E5&" = " -> (6 + 44) · 26 =
A6: =RANK(B6,$B$2:$B$38) -> 7 | B6: =RAND() -> 0.84071836 | C6: =ROUND(RAND()*8+1,0) -> 9 | D6: =ROUND(RAND()*8+1,0)*10-C6 -> 1 | E6: =ROUND(RAND()*20+10,0) -> 28 | H6: =C6&" · "&E6&" + "&D6&" · "&E6 -> 9 · 28 + 1 · 28 | I6: ="= ("&C6&" + "&D6&") · "&E6&" = "&C6+D6&" · "&E6&" = "&(C6+D6)*E6 -> = (9 + 1) · 28 = 10 · 28 = 280 | J6: =" ("&C6&" + "&D6&") · "&E6&" = " -> (9 + 1) · 28 =
A7: =RANK(B7,$B$2:$B$38) -> 5 | B7: =RAND() -> 0.84881393 | C7: =ROUND(RAND()*8+1,0) -> 4 | D7: =ROUND(RAND()*8+1,0)*10-C7 -> 56 | E7: =ROUND(RAND()*20+10,0) -> 22 | H7: =C7&" · "&E7&" + "&D7&" · "&E7 -> 4 · 22 + 56 · 22 | I7: ="= ("&C7&" + "&D7&") · "&E7&" = "&C7+D7&" · "&E7&" = "&(C7+D7)*E7 -> = (4 + 56) · 22 = 60 · 22 = 1320 | J7: =" ("&C7&" + "&D7&") · "&E7&" = " -> (4 + 56) · 22 =
A8: =RANK(B8,$B$2:$B$38) -> 23 | B8: =RAND() -> 0.2719954 | C8: =ROUND(RAND()*8+1,0) -> 6 | D8: =ROUND(RAND()*8+1,0)*10-C8 -> 54 | E8: =ROUND(RAND()*20+10,0) -> 11 | H8: =C8&" · "&E8&" + "&D8&" · "&E8 -> 6 · 11 + 54 · 11 | I8: ="= ("&C8&" + "&D8&") · "&E8&" = "&C8+D8&" · "&E8&" = "&(C8+D8)*E8 -> = (6 + 54) · 11 = 60 · 11 = 660 | J8: =" ("&C8&" + "&D8&") · "&E8&" = " -> (6 + 54) · 11 =
A9: =RANK(B9,$B$2:$B$38) -> 36 | B9: =RAND() -> 0.017294158 | C9: =ROUND(RAND()*8+1,0) -> 7 | D9: =ROUND(RAND()*8+1,0)*10-C9 -> 33 | E9: =ROUND(RAND()*20+10,0) -> 26 | H9: =C9&" · "&E9&" + "&D9&" · "&E9 -> 7 · 26 + 33 · 26 | I9: ="= ("&C9&" + "&D9&") · "&E9&" = "&C9+D9&" · "&E9&" = "&(C9+D9)*E9 -> = (7 + 33) · 26 = 40 · 26 = 1040 | J9: =" ("&C9&" + "&D9&") · "&E9&" = " -> (7 + 33) · 26 =
A10: =RANK(B10,$B$2:$B$38) -> 25 | B10: =RAND() -> 0.23283706 | C10: =ROUND(RAND()*8+1,0) -> 9 | D10: =ROUND(RAND()*8+1,0)*10-C10 -> 11 | E10: =ROUND(RAND()*20+10,0) -> 18 | H10: =C10&" · "&E10&" + "&D10&" · "&E10 -> 9 · 18 + 11 · 18 | I10: ="= ("&C10&" + "&D10&") · "&E10&" = "&C10+D10&" · "&E10&" = "&(C10+D10)*E10 -> = (9 + 11) · 18 = 20 · 18 = 360 | J10: =" ("&C10&" + "&D10&") · "&E10&" = " -> (9 + 11) · 18 =
A11: =RANK(B11,$B$2:$B$38) -> 22 | B11: =RAND() -> 0.35924374 | C11: =ROUND(RAND()*8+1,0) -> 7 | D11: =ROUND(RAND()*8+1,0)*10-C11 -> 13 | E11: =ROUND(RAND()*20+10,0) -> 22 | H11: =C11&" · "&E11&" + "&D11&" · "&E11 -> 7 · 22 + 13 · 22 | I11: ="= ("&C11&" + "&D11&") · "&E11&" = "&C11+D11&" · "&E11&" = "&(C11+D11)*E11 -> = (7 + 13) · 22 = 20 · 22 = 440 | J11: =" ("&C11&" + "&D11&") · "&E11&" = " -> (7 + 13) · 22 =
A12: =RANK(B12,$B$2:$B$38) -> 32 | B12: =RAND() -> 0.10079796 | C12: =ROUND(RAND()*8+1,0) -> 9 | D12: =ROUND(RAND()*8+1,0)*10-C12 -> 31 | E12: =ROUND(RAND()*20+10,0) -> 23 | H12: =C12&" · "&E12&" + "&D12&" · "&E12 -> 9 · 23 + 31 · 23 | I12: ="= ("&C12&" + "&D12&") · "&E12&" = "&C12+D12&" · "&E12&" = "&(C12+D12)*E12 -> = (9 + 31) · 23 = 40 · 23 = 920 | J12: =" ("&C12&" + "&D12&") · "&E12&" = " -> (9 + 31) · 23 =
A13: =RANK(B13,$B$2:$B$38) -> 3 | B13: =RAND() -> 0.87600086 | C13: =ROUND(RAND()*8+1,0) -> 8 | D13: =ROUND(RAND()*8+1,0)*10-C13 -> 32 | E13: =ROUND(RAND()*20+10,0) -> 16 | H13: =C13&" · "&E13&" + "&D13&" · "&E13 -> 8 · 16 + 32 · 16 | I13: ="= ("&C13&" + "&D13&") · "&E13&" = "&C13+D13&" · "&E13&" = "&(C13+D13)*E13 -> = (8 + 32) · 16 = 40 · 16 = 640 | J13: =" ("&C13&" + "&D13&") · "&E13&" = " -> (8 + 32) · 16 =
... A38: =RANK(B38,$B$2:$B$38) -> 30 | B38: =RAND() -> 0.14558166 | C38: =ROUND(RAND()*8+1,0) -> 9 | D38: =ROUND(RAND()*8+1,0)*10-C38 -> 31 | E38: =ROUND(RAND()*20+10,0) -> 28 | H38: =C38&" · "&E38&" + "&D38&" · "&E38 -> 9 · 28 + 31 · 28 | I38: ="= ("&C38&" + "&D38&") · "&E38&" = "&C38+D38&" · "&E38&" = "&(C38+D38)*E38 -> = (9 + 31) · 28 = 40 · 28 = 1120 | J38: =" ("&C38&" + "&D38&") · "&E38&" = " -> (9 + 31) · 28 =
A43: =RANK(B43,$B$43:$B$79) -> 27 | B43: =RAND() -> 0.1442734 | C43: =ROUND(RANDBETWEEN(11,50),0) -> 40 | D43: =ROUND(RAND()*8+1,0) -> 4 | E43: =ROUND(RAND()*20+10,0) -> 22 | F43: =RANDBETWEEN(0,1) -> 1 | G43: =IF(F43=0,"+","-") -> - | H43: =C43&" · "&E43&" "&G43&" "&D43&" · "&E43 -> 40 · 22 - 4 · 22 | I43: ="("&C43&" "&G43&" "&D43&") · "&E43&" = " -> (40 - 4) · 22 =
A44: =RANK(B44,$B$43:$B$79) -> 20 | B44: =RAND() -> 0.40324689 | C44: =ROUND(RANDBETWEEN(11,50),0) -> 41 | D44: =ROUND(RAND()*8+1,0) -> 6 | E44: =ROUND(RAND()*20+10,0) -> 20 | F44: =RANDBETWEEN(0,1) -> 1 | G44: =IF(F44=0,"+","-") -> - | H44: =C44&" · "&E44&" "&G44&" "&D44&" · "&E44 -> 41 · 20 - 6 · 20 | I44: ="("&C44&" "&G44&" "&D44&") · "&E44&" = " -> (41 - 6) · 20 =
A45: =RANK(B45,$B$43:$B$79) -> 8 | B45: =RAND() -> 0.70465195 | C45: =ROUND(RANDBETWEEN(11,50),0) -> 29 | D45: =ROUND(RAND()*8+1,0) -> 4 | E45: =ROUND(RAND()*20+10,0) -> 13 | F45: =RANDBETWEEN(0,1) -> 1 | G45: =IF(F45=0,"+","-") -> - | H45: =C45&" · "&E45&" "&G45&" "&D45&" · "&E45 -> 29 · 13 - 4 · 13 | I45: ="("&C45&" "&G45&" "&D45&") · "&E45&" = " -> (29 - 4) · 13 =
A46: =RANK(B46,$B$43:$B$79) -> 3 | B46: =RAND() -> 0.90855586 | C46: =ROUND(RANDBETWEEN(11,50),0) -> 16 | D46: =ROUND(RAND()*8+1,0) -> 1 | E46: =ROUND(RAND()*20+10,0) -> 11 | F46: =RANDBETWEEN(0,1) -> 1 | G46: =IF(F46=0,"+","-") -> - | H46: =C46&" · "&E46&" "&G46&" "&D46&" · "&E46 -> 16 · 11 - 1 · 11 | I46: ="("&C46&" "&G46&" "&D46&") · "&E46&" = " -> (16 - 1) · 11 =
A47: =RANK(B47,$B$43:$B$79) -> 24 | B47: =RAND() -> 0.30731279 | C47: =ROUND(RANDBETWEEN(11,50),0) -> 42 | D47: =ROUND(RAND()*8+1,0) -> 4 | E47: =ROUND(RAND()*20+10,0) -> 17 | F47: =RANDBETWEEN(0,1) -> 0 | G47: =IF(F47=0,"+","-") -> + | H47: =C47&" · "&E47&" "&G47&" "&D47&" · "&E47 -> 42 · 17 + 4 · 17 | I47: ="("&C47&" "&G47&" "&D47&") · "&E47&" = " -> (42 + 4) · 17 =
A48: =RANK(B48,$B$43:$B$79) -> 13 | B48: =RAND() -> 0.54968987 | C48: =ROUND(RANDBETWEEN(11,50),0) -> 50 | D48: =ROUND(RAND()*8+1,0) -> 5 | E48: =ROUND(RAND()*20+10,0) -> 12 | F48: =RANDBETWEEN(0,1) -> 0 | G48: =IF(F48=0,"+","-") -> + | H48: =C48&" · "&E48&" "&G48&" "&D48&" · "&E48 -> 50 · 12 + 5 · 12 | I48: ="("&C48&" "&G48&" "&D48&") · "&E48&" = " -> (50 + 5) · 12 =
A49: =RANK(B49,$B$43:$B$79) -> 29 | B49: =RAND() -> 0.091749752 | C49: =ROUND(RANDBETWEEN(11,50),0) -> 41 | D49: =ROUND(RAND()*8+1,0) -> 1 | E49: =ROUND(RAND()*20+10,0) -> 27 | F49: =RANDBETWEEN(0,1) -> 0 | G49: =IF(F49=0,"+","-") -> + | H49: =C49&" · "&E49&" "&G49&" "&D49&" · "&E49 -> 41 · 27 + 1 · 27 | I49: ="("&C49&" "&G49&" "&D49&") · "&E49&" = " -> (41 + 1) · 27 =
A50: =RANK(B50,$B$43:$B$79) -> 35 | B50: =RAND() -> 0.058594904 | C50: =ROUND(RANDBETWEEN(11,50),0) -> 43 | D50: =ROUND(RAND()*8+1,0) -> 7 | E50: =ROUND(RAND()*20+10,0) -> 15 | F50: =RANDBETWEEN(0,1) -> 1 | G50: =IF(F50=0,"+","-") -> - | H50: =C50&" · "&E50&" "&G50&" "&D50&" · "&E50 -> 43 · 15 - 7 · 15 | I50: ="("&C50&" "&G50&" "&D50&") · "&E50&" = " -> (43 - 7) · 15 =
A51: =RANK(B51,$B$43:$B$79) -> 34 | B51: =RAND() -> 0.069182325 | C51: =ROUND(RANDBETWEEN(11,50),0) -> 35 | D51: =ROUND(RAND()*8+1,0) -> 5 | E51: =ROUND(RAND()*20+10,0) -> 30 | F51: =RANDBETWEEN(0,1) -> 0 | G51: =IF(F51=0,"+","-") -> + | H51: =C51&" · "&E51&" "&G51&" "&D51&" · "&E51 -> 35 · 30 + 5 · 30 | I51: ="("&C51&" "&G51&" "&D51&") · "&E51&" = " -> (35 + 5) · 30 =
A52: =RANK(B52,$B$43:$B$79) -> 36 | B52: =RAND() -> 0.044225716 | C52: =ROUND(RANDBETWEEN(11,50),0) -> 44 | D52: =ROUND(RAND()*8+1,0) -> 1 | E52: =ROUND(RAND()*20+10,0) -> 26 | F52: =RANDBETWEEN(0,1) -> 1 | G52: =IF(F52=0,"+","-") -> - | H52: =C52&" · "&E52&" "&G52&" "&D52&" · "&E52 -> 44 · 26 - 1 · 26 | I52: ="("&C52&" "&G52&" "&D52&") · "&E52&" = " -> (44 - 1) · 26 =
A53: =RANK(B53,$B$43:$B$79) -> 5 | B53: =RAND() -> 0.83957351 | C53: =ROUND(RANDBETWEEN(11,50),0) -> 25 | D53: =ROUND(RAND()*8+1,0) -> 7 | E53: =ROUND(RAND()*20+10,0) -> 29 | F53: =RANDBETWEEN(0,1) -> 1 | G53: =IF(F53=0,"+","-") -> - | H53: =C53&" · "&E53&" "&G53&" "&D53&" · "&E53 -> 25 · 29 - 7 · 29 | I53: ="("&C53&" "&G53&" "&D53&") · "&E53&" = " -> (25 - 7) · 29 =
A54: =RANK(B54,$B$43:$B$79) -> 19 | B54: =RAND() -> 0.4459906 | C54: =ROUND(RANDBETWEEN(11,50),0) -> 34 | D54: =ROUND(RAND()*8+1,0) -> 3 | E54: =ROUND(RAND()*20+10,0) -> 19 | F54: =RANDBETWEEN(0,1) -> 0 | G54: =IF(F54=0,"+","-") -> + | H54: =C54&" · "&E54&" "&G54&" "&D54&" · "&E54 -> 34 · 19 + 3 · 19 | I54: ="("&C54&" "&G54&" "&D54&") · "&E54&" = " -> (34 + 3) · 19 =
... A79: =RANK(B79,$B$43:$B$79) -> 16 | B79: =RAND() -> 0.478535 | C79: =ROUND(RANDBETWEEN(11,50),0) -> 12 | D79: =ROUND(RAND()*8+1,0) -> 6 | E79: =ROUND(RAND()*20+10,0) -> 29 | F79: =RANDBETWEEN(0,1) -> 1 | G79: =IF(F79=0,"+","-") -> - | H79: =C79&" · "&E79&" "&G79&" "&D79&" · "&E79 -> 12 · 29 - 6 · 29 | I79: ="("&C79&" "&G79&" "&D79&") · "&E79&" = " -> (12 - 6) · 29 =
D91: x | E91: y | F91: z
A92: 1 | B92: =RAND() -> 0.15509259 | C92: =ROUND(RAND()*8+1,0) -> 5 | D92: =ROUND(RAND()*8+1,0)*10-C92-F92 -> 33 | E92: =ROUND(RAND()*20+10,0) -> 19 | F92: =ROUND(RAND()*20+10,0) -> 22 | H92: =C92&" · "&E92&" + "&D92&" · "&E92&" + "&F92&" · "&E92 -> 5 · 19 + 33 · 19 + 22 · 19 | I92: ="= ("&C92&" + "&D92&") · "&E92&" = "&C92+D92&" · "&E92&" = "&(C92+D92)*E92 -> = (5 + 33) · 19 = 38 · 19 = 722 | J92: =" ("&C92&" + "&D92&" + "&F92&") · "&E92&" = "&C92+D92+F92&" · "&E92&" = "&(C92+D92+F92)*E92 -> (5 + 33 + 22) · 19 = 60 · 19 = 1140 | K92: =C92+D92+F92&" · "&E92 -> 60 · 19
A93: =RANK(B93,$B$2:$B$38) -> #N/A | B93: =RAND() -> 0.61721169 | C93: =ROUND(RAND()*8+1,0) -> 4 | D93: =ROUND(RAND()*8+1,0)*10-C93 -> 6 | E93: =ROUND(RAND()*20+10,0) -> 25 | F93: =ROUND(RAND()*20+10,0) -> 12 | H93: =C93&" · "&E93&" + "&D93&" · "&E93&" + "&F93&" · "&E93 -> 4 · 25 + 6 · 25 + 12 · 25 | I93: ="= ("&C93&" + "&D93&") · "&E93&" = "&C93+D93&" · "&E93&" = "&(C93+D93)*E93 -> = (4 + 6) · 25 = 10 · 25 = 250 | J93: =" ("&C93&" + "&D93&" + "&F93&") · "&E93 -> (4 + 6 + 12) · 25

Sheet Daten4
A1: 37 | C1: a | D1: b | E1: c | F1: d | G1: Hilfe | H1: Hilfe2 | I1: Text | J1: Term | K1: Lösung | L1: Lösung 2 | M1: Aufgabe 1 | N1: Aufgabe 2
A2: =ROUND(RAND()*(A1-1)+0.5,0) -> 13 | B2: =MOD(ROUND(RAND()*A1+0.5,0),A1) -> 30 | C2: =ROUND(RAND()*9+1,0)+D2 -> 16 | D2: =ROUND(RAND()*9+1,0) -> 8 | E2: =ROUND(RAND()*9+1,0) -> 10 | F2: =ROUND(RAND()*9+1,0) -> 2 | I2: (a-b)*(c+d) | J2: ="("&C2&" - "&D2&") ∙ ("&E2&" + "&F2&")" -> (16 - 8) ∙ (10 + 2) | K2: ="= "&C2-D2&" ∙ "&E2+F2 -> = 8 ∙ 12 | L2: =" = "&(C2-D2)*(E2+F2) -> = 96 | M2: ="Multipliziere die Differenz von "&C2&" und "&D2 -> Multipliziere die Differenz von 16 und 8 | N2: =" mit der Summe aus "&E2&" und "&F2 -> mit der Summe aus 10 und 2
B3: =MOD(B2+$A$2,$A$1) -> 6 | C3: =ROUND(RAND()*6+1,0) -> 6 | D3: =ROUND(RAND()*6+1,0) -> 2 | E3: =ROUND(RAND()*6+1,0) -> 6 | F3: =ROUND(RAND()*6+1,0) -> 2 | I3: (a+b)*(c+d) | J3: ="("&C3&" + "&D3&") ∙ ("&E3&" + "&F3&")" -> (6 + 2) ∙ (6 + 2) | K3: ="= "&C3+D3&" ∙ "&E3+F3 -> = 8 ∙ 8 | L3: =" = "&(C3+D3)*(E3+F3) -> = 64 | M3: ="Multipliziere die Summe von "&C3&" und "&D3 -> Multipliziere die Summe von 6 und 2 | N3: =" mit der Summe aus "&E3&" und "&F3 -> mit der Summe aus 6 und 2
B4: =MOD(B3+$A$2,$A$1) -> 19 | C4: =ROUND(RAND()*9+1,0)+D4 -> 15 | D4: =ROUND(RAND()*9+1,0) -> 9 | E4: =ROUND(RAND()*9+1,0)+F4 -> 18 | F4: =ROUND(RAND()*9+1,0) -> 10 | I4: (a-b)*(c-d) | J4: ="("&C4&" - "&D4&") ∙ ("&E4&" - "&F4&")" -> (15 - 9) ∙ (18 - 10) | K4: ="= "&C4-D4&" ∙ "&E4-F4 -> = 6 ∙ 8 | L4: =" = "&(C4-D4)*(E4-F4) -> = 48 | M4: ="Multipliziere die Differenz von "&C4&" und "&D4 -> Multipliziere die Differenz von 15 und 9 | N4: =" mit der Differenz von "&E4&" und "&F4 -> mit der Differenz von 18 und 10
B5: =MOD(B4+$A$2,$A$1) -> 32 | C5: =ROUND(RAND()*9+1,0) -> 9 | D5: =ROUND(RAND()*9+1,0) -> 3 | E5: =ROUND(RAND()*9+1,0)+F5 -> 13 | F5: =ROUND(RAND()*9+1,0) -> 3 | I5: (a+b)*(c-d) | J5: ="("&C5&" + "&D5&") ∙ ("&E5&" - "&F5&")" -> (9 + 3) ∙ (13 - 3) | K5: ="= "&C5+D5&" ∙ "&E5-F5 -> = 12 ∙ 10 | L5: =" = "&(C5+D5)*(E5-F5) -> = 120 | M5: ="Multipliziere die Summe von "&C5&" und "&D5 -> Multipliziere die Summe von 9 und 3 | N5: =" mit der Differenz von "&E5&" und "&F5 -> mit der Differenz von 13 und 3
B6: =MOD(B5+$A$2,$A$1) -> 8 | C6: =ROUND(RAND()*9+1,0)+D6 -> 13 | D6: =ROUND(RAND()*9+1,0) -> 4 | E6: =ROUND(RAND()*9+2,0) -> 9 | F6: =ROUND(RAND()*9+1,0) -> 5 | I6: (a-b)*c | J6: ="("&C6&" - "&D6&") ∙ "&E6 -> (13 - 4) ∙ 9 | K6: ="= "&C6-D6&" ∙ "&E6 -> = 9 ∙ 9 | L6: =" = "&(C6-D6)*E6 -> = 81 | M6: ="Multipliziere die Differenz von "&C6&" und "&D6 -> Multipliziere die Differenz von 13 und 4 | N6: =" mit "&E6 -> mit 9
